BEGIN:VCALENDAR
VERSION:2.0
PRODID:-//ChamberMaster//Event Calendar 2.0//EN
METHOD:PUBLISH
X-PUBLISHED-TTL:P3D
REFRESH-INTERVAL:P3D
CALSCALE:GREGORIAN
BEGIN:VEVENT
DTSTART;VALUE=DATE:20171102
DTEND;VALUE=DATE:20171106
TRANSP:TRANSPARENT
X-MICROSOFT-CDO-ALLDAYEVENT:TRUE
SUMMARY:Zoppe Family Circus
DESCRIPTION:175th Anniversary of the Zoppe Italian Family Circus!\n\nOver 7 generations under the big top!\n\n\n\nWe are looking for volunteers to help with set up\, and parking attendants for fri-sun shows. If interested contact Rachel (707) 673-6782 or Dee Dee (707) 513-6809\n\n\n\nSponsors: Highway 20 Feed\, Mendocino Coast Humane Society\, Skunk Train\, Harvest Market\, Skunk FM\, North Star Nursery
X-ALT-DESC;FMTTYPE=text/html:175th Anniversary of the Zoppe&nbsp\;Italian Family Circus!<br>\nOver 7 generations under the big top!<br>\n<br>\nWe are looking for volunteers to help with set up\, and parking attendants for fri-sun&nbsp\;shows. If interested contact Rachel (707) 673-6782 or Dee Dee (707) 513-6809<br>\n<br>\nSponsors: Highway 20 Feed\, Mendocino Coast Humane Society\, Skunk Train\, Harvest Market\, Skunk FM\, North Star Nursery<br>\n&nbsp\;
LOCATION:Todd's Point in Fort Bragg
UID:e.2883.4449
SEQUENCE:3
DTSTAMP:20260423T172918Z
URL:http://mendocinocoast.smartcms.site/events/details/zoppe-family-circus-4449
END:VEVENT

END:VCALENDAR
