BEGIN:VCALENDAR
VERSION:2.0
PRODID:-//ChamberMaster//Event Calendar 2.0//EN
METHOD:PUBLISH
X-PUBLISHED-TTL:P3D
REFRESH-INTERVAL:P3D
CALSCALE:GREGORIAN
BEGIN:VEVENT
DTSTART:20170826T223000Z
DTEND:20170827T050000Z
X-MICROSOFT-CDO-ALLDAYEVENT:FALSE
SUMMARY:Zombie Walk and Dance to fight childhood cancer!
DESCRIPTION:The Fort Bragg Leo Club hosts an annual Zombie Walk and Dance\, a benefit to fight childhood cancer.  Each year\, they identify a local child to help.  This year\, the proceeds from this event will be helping the family of 3 year old Jareth Chilton\, who has been diagnosed with Neuroblastoma.  He will be undergoing surgeries and numberous treatments at UCSF Benioff Children's Hospital. The funds raised will help with travel expenses for the family. \n\nHere is how you can help:\n\nAttend the Zombie Walk & Dance!  Saturday\, August 26th\, at the Fort Bragg Lions Hall   430 E. Redwood\, Fort Bragg.  Make-up is at 3:30 PM\, the walk downtown begins at 5:30 PM and the Dance and Karaoke (provided by Groundloop Events) is from 6:30 PM-10:30 PM.  Concessions and full bar available for sale.  This is a very fun family event for all ages!  Tickets are available at Harvest Market/Boatyard\, or online at https://squareup.com/store/fort-bragg-lions-and-leo-club  and click on the link to purchase tickets!\n\nIf you cannot attend\, but wish to help\, you can Send a check to the Fort Bragg Leo Club to P.O. Box 1547\, Fort Bragg\, CA 95437 and write "For Jareth" in the subject line.\n\nThe Leo Club is the youth group sponsored by the Fort Bragg/Mendocino Lions.  These Leos\, (ages 12-18) are an incredible group of young leaders that identify needs for the youth in our community\, and do something about it.
X-ALT-DESC;FMTTYPE=text/html:The Fort Bragg Leo Club hosts an annual Zombie Walk and Dance\, a benefit to fight childhood cancer.&nbsp\; Each year\, they identify a local child to help.&nbsp\; This year\, the proceeds from this event will be helping the family of 3 year old Jareth Chilton\, who has been diagnosed with Neuroblastoma.&nbsp\;&nbsp\;He will be undergoing surgeries and numberous treatments at UCSF Benioff Children&rsquo\;s Hospital. The funds raised will help with travel expenses for the family.&nbsp\;<br />\n<strong>Here is how you can help:</strong><br />\n<strong>Attend the Zombie Walk &amp\; Dance</strong>!&nbsp\; Saturday\, August 26<sup>th</sup>\, at the Fort Bragg Lions Hall &ndash\; 430 E. Redwood\, Fort Bragg.&nbsp\; Make-up is at 3:30 PM\, the walk downtown begins at 5:30 PM and the Dance and Karaoke (provided by Groundloop Events) is from 6:30 PM-10:30 PM.&nbsp\; Concessions and full bar available for sale.&nbsp\; This is a very fun family event for all ages!&nbsp\; Tickets are available at Harvest Market/Boatyard\, or online at https://squareup.com/store/fort-bragg-lions-and-leo-club&nbsp\;&nbsp\;and click on the link to purchase tickets!<br />\nIf you cannot attend\, but wish to help\, you can&nbsp\;<strong>Send a check to the Fort Bragg Leo Club</strong> to P.O. Box 1547\, Fort Bragg\, CA 95437 and write &ldquo\;For Jareth&rdquo\; in the subject line.<br />\nThe Leo Club is the youth group sponsored by the Fort Bragg/Mendocino Lions.&nbsp\; These Leos\, (ages 12-18) are an incredible group of young leaders that identify needs for the youth in our community\, and do something about it.&nbsp\;&nbsp\;<br />\n<br />\n&nbsp\;<br />\n<br />\n&nbsp\;<br />\n<br />\n&nbsp\;
LOCATION:Fort Bragg Lions Hall 430 E. Redwood Ave Fort Bragg\, CA
UID:e.2883.3443
SEQUENCE:3
DTSTAMP:20260423T233104Z
URL:http://mendocinocoast.smartcms.site/events/details/zombie-walk-and-dance-to-fight-childhood-cancer-3443
END:VEVENT

END:VCALENDAR
