BEGIN:VCALENDAR
VERSION:2.0
PRODID:-//ChamberMaster//Event Calendar 2.0//EN
METHOD:PUBLISH
X-PUBLISHED-TTL:P3D
REFRESH-INTERVAL:P3D
CALSCALE:GREGORIAN
BEGIN:VEVENT
DTSTART:20190117T020000Z
DTEND:20190117T030000Z
X-MICROSOFT-CDO-ALLDAYEVENT:FALSE
SUMMARY:Youth Social Media Safety - Parent Education Night
DESCRIPTION:Are your kids online? Join us to learn about Social Media Land Mines. - Pros & cons of most popular apps\; - Technology addiction & what you can do\; - How to spot & react to cyber bullying - 6 potential safety concerns - How to talk to your kids about social media - Monitoring apps - 3 Rules & 3tips that will help use technology responsibly
X-ALT-DESC;FMTTYPE=text/html:Are your kids online? Join us to learn about Social Media Land Mines. - Pros &amp\; cons of most popular apps\; - Technology addiction &amp\; what you can do\; - How to spot &amp\; react to cyber bullying - 6 potential safety concerns - How to talk to your kids about social media - Monitoring apps - 3 Rules &amp\; 3tips that will help use technology responsibly
LOCATION:Cotton Auditorium 500 North Harold Street Fort Bragg
UID:e.2883.10497
SEQUENCE:3
DTSTAMP:20260422T174522Z
URL:http://mendocinocoast.smartcms.site/events/details/youth-social-media-safety-parent-education-night-10497
END:VEVENT

END:VCALENDAR
