BEGIN:VCALENDAR
VERSION:2.0
PRODID:-//ChamberMaster//Event Calendar 2.0//EN
METHOD:PUBLISH
X-PUBLISHED-TTL:P3D
REFRESH-INTERVAL:P3D
CALSCALE:GREGORIAN
BEGIN:VEVENT
DTSTART:20171007T160000Z
DTEND:20171007T183000Z
X-MICROSOFT-CDO-ALLDAYEVENT:FALSE
SUMMARY:Young Eagles at Little River Airport
DESCRIPTION:Free flight and flight instruction program at Little River Airport Saturday October 7 - 9 to 11:30AM. Brought to Little River and the Mendocino Coast by volunteer pilots and aviation enthusiasts\, members of the Experimental Aircraft Association. This is an Introduction to Flight program\, with opportunities to continue flight training included for those 13 through 17 yeas old. Flight in a private airplane is part of the program\, weather permitting. Signed permission slip is required. Students between the ages of 8 and 17 are eligible.
X-ALT-DESC;FMTTYPE=text/html:Free flight and flight instruction program at Little River Airport Saturday October 7 - 9 to 11:30AM. Brought to Little River and the Mendocino Coast by volunteer pilots and aviation enthusiasts\, members of the Experimental Aircraft Association. This is an Introduction to Flight program\, with opportunities to continue flight training included for those 13 through 17 yeas old. Flight in a private airplane is part of the program\, weather permitting. Signed permission slip is required. Students between the ages of 8 and 17 are eligible.
LOCATION:Little River Airport\, Little River Airport Rd. Little River CA
UID:e.2883.4426
SEQUENCE:3
DTSTAMP:20260423T201246Z
URL:http://mendocinocoast.smartcms.site/events/details/young-eagles-at-little-river-airport-4426
END:VEVENT

END:VCALENDAR
