BEGIN:VCALENDAR
VERSION:2.0
PRODID:-//ChamberMaster//Event Calendar 2.0//EN
METHOD:PUBLISH
X-PUBLISHED-TTL:P3D
REFRESH-INTERVAL:P3D
CALSCALE:GREGORIAN
BEGIN:VEVENT
DTSTART:20190719T173000Z
DTEND:20190719T183000Z
X-MICROSOFT-CDO-ALLDAYEVENT:FALSE
SUMMARY:Xtreme Science Magic
DESCRIPTION:Magician extraordinaire\, Don O'Brien\, returns with demonstrations of dazzling magical science experiments. Audience participation is encouraged.
X-ALT-DESC;FMTTYPE=text/html:Magician extraordinaire\, Don O&rsquo\;Brien\, returns with demonstrations of dazzling magical science experiments. Audience participation is encouraged.
LOCATION:Fort Bragg Library 499 E Laurel St. Fort Bragg\, CA 95437
UID:e.2883.11763
SEQUENCE:3
DTSTAMP:20260422T075842Z
URL:http://mendocinocoast.smartcms.site/events/details/xtreme-science-magic-11763
END:VEVENT

END:VCALENDAR
