BEGIN:VCALENDAR
VERSION:2.0
PRODID:-//ChamberMaster//Event Calendar 2.0//EN
METHOD:PUBLISH
X-PUBLISHED-TTL:P3D
REFRESH-INTERVAL:P3D
CALSCALE:GREGORIAN
BEGIN:VEVENT
DTSTART:20170929T010000Z
DTEND:20170929T023000Z
X-MICROSOFT-CDO-ALLDAYEVENT:FALSE
SUMMARY:Workshop: Digital Tools You Need to Grow Your Business\, Right Now!
DESCRIPTION:There is a massive library of free productivity tools and software available to the business owner in today's digital economy. But\, understanding and applying the right tools for your business needs is the hard part. Let Apolonio Valdovinos\, a certified California Career Technology Education (CTE) teacher\, demystify technology for the small business entrepreneur. #digitaltools #businesscoaching #businessbasics #westcoworkshop #westcompany #mendocoastworkshops
X-ALT-DESC;FMTTYPE=text/html:There is a massive library of free productivity tools and software available to the business owner in today&rsquo\;s digital economy. But\, understanding and applying the right tools for your business needs is the hard part. Let Apolonio Valdovinos\, a certified California Career Technology Education (CTE) teacher\, demystify technology for the small business entrepreneur. #digitaltools #businesscoaching #businessbasics #westcoworkshop #westcompany #mendocoastworkshops
LOCATION:West Company\, 760 B Stewart Street\, Fort Bragg 707-964-7571
UID:e.2883.4400
SEQUENCE:3
DTSTAMP:20260423T215505Z
URL:http://mendocinocoast.smartcms.site/events/details/workshop-digital-tools-you-need-to-grow-your-business-right-now-4400
END:VEVENT

END:VCALENDAR
