BEGIN:VCALENDAR
VERSION:2.0
PRODID:-//ChamberMaster//Event Calendar 2.0//EN
METHOD:PUBLISH
X-PUBLISHED-TTL:P3D
REFRESH-INTERVAL:P3D
CALSCALE:GREGORIAN
BEGIN:VEVENT
DTSTART:20171019T010000Z
DTEND:20171019T023000Z
X-MICROSOFT-CDO-ALLDAYEVENT:FALSE
SUMMARY:Workshop: Business Basics: Turning Ideas into Action
DESCRIPTION:Owning a business is not an easy task. It takes perseverance\, resilience and flexibility. This fun workshop will provide you with guidance on owning a business. Topics Include: Business Licensing Requirements   Business Taxes   Legal Form of Organization   Components of a Business Plan   Financial Readiness   Business Loans   Marketing Messages   Target Markets   Technology Tools for Business Productivity #businesscoaching #businessbasics #ideastoaction #westcoworkshop #westcompany #mendocoastworkshops
X-ALT-DESC;FMTTYPE=text/html:Owning a business is not an easy task. It takes perseverance\, resilience and flexibility. This fun workshop will provide you with guidance on owning a business. Topics Include: Business Licensing Requirements &bull\; Business Taxes &bull\; Legal Form of Organization &bull\; Components of a Business Plan &bull\; Financial Readiness &bull\; Business Loans &bull\; Marketing Messages &bull\; Target Markets &bull\; Technology Tools for Business Productivity #businesscoaching #businessbasics #ideastoaction #westcoworkshop #westcompany #mendocoastworkshops
LOCATION:West Company\, 760 B Stewart Street\, Fort Bragg 707-964-7571
UID:e.2883.4402
SEQUENCE:3
DTSTAMP:20260423T201917Z
URL:http://mendocinocoast.smartcms.site/events/details/workshop-business-basics-turning-ideas-into-action-10-18-2017-4402
END:VEVENT

END:VCALENDAR
