BEGIN:VCALENDAR
VERSION:2.0
PRODID:-//ChamberMaster//Event Calendar 2.0//EN
METHOD:PUBLISH
X-PUBLISHED-TTL:P3D
REFRESH-INTERVAL:P3D
CALSCALE:GREGORIAN
BEGIN:VEVENT
DTSTART;VALUE=DATE:20170216
DTEND;VALUE=DATE:20170217
TRANSP:TRANSPARENT
X-MICROSOFT-CDO-ALLDAYEVENT:TRUE
SUMMARY:"Wordplay: Aaron Stansberry\, Gwen Manfrin\, Kenna Doeringer
DESCRIPTION:PARTNERS GALLERYâ€œWORDPLAYâ€:Â  KENNA DOERINGER\, GWEN MANFRIN\, AARON STANSBERRYMARCH 2 â€“ APRIL 2FIRST FRIDAY RECEPTION MARCH 3\, 5-8PMÂ In â€œWordplay\,â€ a juried show selected by writer and curator Terri Cohn\, three mixed media artists create pieces that include words in their imagery. Each approaches the intertwining of image and text in a unique fashion.Â Combining two passions of creating art and literature\, Kenna Doeringer creates sculptural pieces\, in one case a chess board\, using text from Lewis Carroll\, Charles Darwin and Dante. In watercolor and colored pencil works on panel\, Gwen Manfrin depicts figures suspended in space\, evoking the disorienting moments that force new leaps of faith.Â  Aaron Stansberry creates abstract-calligraphic paintings by inscribing lyrics\, poetry\, quotes\, and phrases into multiple layers of oil and cold wax\, while using the canvas as a personal diary by recording thoughts and feelings as he works.Â Partners Gallery is located at 335 N. Franklin Street in Fort Bragg and is open Wednesday through Monday 10 am to 5 pm and Sundays 10 am to 4 pm. 707 962-0233Â  http://www.partnersgallery.com Â
X-ALT-DESC;FMTTYPE=text/html:<p>PARTNERS GALLERY</p><p>â€œWORDPLAYâ€:Â  KENNA DOERINGER\, GWEN MANFRIN\, AARON STANSBERRY</p><p>MARCH 2 â€“ APRIL 2</p><p>FIRST FRIDAY RECEPTION MARCH 3\, 5-8PM</p><p>Â </p><p>In â€œWordplay\,â€ a juried show selected by writer and curator Terri Cohn\, three mixed media artists create pieces that include words in their imagery. Each approaches the intertwining of image and text in a unique fashion.</p><p>Â </p><p>Combining two passions of creating art and literature\, Kenna Doeringer creates sculptural pieces\, in one case a chess board\, using text from Lewis Carroll\, Charles Darwin and Dante. In watercolor and colored pencil works on panel\, Gwen Manfrin depicts figures suspended in space\, evoking the disorienting moments that force new leaps of faith.Â  Aaron Stansberry creates abstract-calligraphic paintings by inscribing lyrics\, poetry\, quotes\, and phrases into multiple layers of oil and cold wax\, while using the canvas as a personal diary by recording thoughts and feelings as he works.</p><p>Â </p><p>Partners Gallery is located at 335 N. Franklin Street in Fort Bragg and is open Wednesday through Monday 10 am to 5 pm and Sundays 10 am to 4 pm. 707 962-0233Â  <a href="http://www.partnersgallery.com">http://www.partnersgallery.com</a>&gt\;</p><p>Â </p>
LOCATION:Partners Gallery Fort Bragg
UID:e.2883.1124
SEQUENCE:3
DTSTAMP:20260424T093818Z
URL:http://mendocinocoast.smartcms.site/events/details/wordplay-aaron-stansberry-gwen-manfrin-kenna-doeringer-02-16-2017-1124
END:VEVENT

END:VCALENDAR
