BEGIN:VCALENDAR
VERSION:2.0
PRODID:-//ChamberMaster//Event Calendar 2.0//EN
METHOD:PUBLISH
X-PUBLISHED-TTL:P3D
REFRESH-INTERVAL:P3D
CALSCALE:GREGORIAN
BEGIN:VEVENT
DTSTART:20161118T190100Z
DTEND:20161119T000000Z
X-MICROSOFT-CDO-ALLDAYEVENT:FALSE
SUMMARY:Wood Gifts and Toys by the Mendocino Coast Furnituremakers
DESCRIPTION:Â MENDOCINO COAST FURNITUREMAKERSWOOD GIFTS AND TOYSDECEMBER 1 -30FIRST FRIDAY RECEPTION DEC 2\, 5-8PMÂ The Mendocino Coast Furnituremakers are presenting a gift show at Partnerâ€™s Gallery featuring locally made hand crafted holiday gifts.There is an assortment of wooden toys for children including animals\, vehicles of many sizes and shapes\, and small houses.For grown-ups on your list\, choose between elegant boxes\, mini tansu chests\, large and small turned objects\, tables\, and wooden bound handmade journals.These pieces are assembled from a variety of beautiful woods\, including walnut\, redwood\, fir\, Alaskan yellow cedar\, Swiss pear\, bubinga\, and more.Participants include Kerry Marshall\, Paul Reiber\, Les Cizek\, Lee Baker\, Josh Smith\, Henry Hewitt\, Michael Carroll\, Joe Amaral\, Scott Jares\, Hans Bruhner\, Judy Tarbell\, and Michael Burns.Â Partners Gallery is located at 335 N. Franklin Street in Fort Bragg and is open Wednesday through Monday 10 am to 5 pm and Sundays 10 am to 4 pm. Closed Christmas Day.Â Â  707 962-0233Â  http://www.partnersgallery.com
X-ALT-DESC;FMTTYPE=text/html:<p>Â </p><p>MENDOCINO COAST FURNITUREMAKERS</p><p>WOOD GIFTS AND TOYS</p><p>DECEMBER 1 -30</p><p>FIRST FRIDAY RECEPTION DEC 2\, 5-8PM</p><p>Â </p><p>The Mendocino Coast Furnituremakers are presenting a gift show at Partnerâ€™s Gallery featuring locally made hand crafted holiday gifts.</p><p>There is an assortment of wooden toys for children including animals\, vehicles of many sizes and shapes\, and small houses.</p><p>For grown-ups on your list\, choose between elegant boxes\, mini tansu chests\, large and small turned objects\, tables\, and wooden bound handmade journals.</p><p>These pieces are assembled from a variety of beautiful woods\, including walnut\, redwood\, fir\, Alaskan yellow cedar\, Swiss pear\, bubinga\, and more.</p><p>Participants include Kerry Marshall\, Paul Reiber\, Les Cizek\, Lee Baker\, Josh Smith\, Henry Hewitt\, Michael Carroll\, Joe Amaral\, Scott Jares\, Hans Bruhner\, Judy Tarbell\, and Michael Burns.</p><p>Â </p><p>Partners Gallery is located at 335 N. Franklin Street in Fort Bragg and is open Wednesday through Monday 10 am to 5 pm and Sundays 10 am to 4 pm. Closed Christmas Day.Â Â  707 962-0233Â  <a href="http://www.partnersgallery.com">http://www.partnersgallery.com</a>&gt\;</p>
LOCATION:Partners Gallery Fort Bragg
UID:e.2883.1069
SEQUENCE:3
DTSTAMP:20260424T142123Z
URL:http://mendocinocoast.smartcms.site/events/details/wood-gifts-and-toys-by-the-mendocino-coast-furnituremakers-11-18-2016-1069
END:VEVENT

END:VCALENDAR
