BEGIN:VCALENDAR
VERSION:2.0
PRODID:-//ChamberMaster//Event Calendar 2.0//EN
METHOD:PUBLISH
X-PUBLISHED-TTL:P3D
REFRESH-INTERVAL:P3D
CALSCALE:GREGORIAN
BEGIN:VEVENT
DTSTART:20180922T010000Z
DTEND:20180922T030000Z
X-MICROSOFT-CDO-ALLDAYEVENT:FALSE
SUMMARY:Womens Empowerment Night
DESCRIPTION:Starting in September\, the Mendocino Women's Business Center at West Company\, will host monthly empowerment gatherings at various women owned businesses. Join us at Caspar Curiosities\, a unique\, rustic\, venue that includes a boutique and art gallery owned by local successful businesswoman Rachael Victoria Adams\, to connect\, collaborate\, learn\, and gratefully enjoy the bounty of local Mendo food.
X-ALT-DESC;FMTTYPE=text/html:Starting in September\, the Mendocino Women&rsquo\;s Business Center at West Company\, will host monthly empowerment gatherings at various women owned businesses. Join us at Caspar Curiosities\, a unique\, rustic\, venue that includes a boutique and art gallery owned by local successful businesswoman Rachael Victoria Adams\, to connect\, collaborate\, learn\, and gratefully enjoy the bounty of local Mendo food.
LOCATION:Caspar Curiosities 15160 Caspar Road Caspar
UID:e.2883.9370
SEQUENCE:3
DTSTAMP:20260423T022337Z
URL:http://mendocinocoast.smartcms.site/events/details/womens-empowerment-night-9370
END:VEVENT

END:VCALENDAR
