BEGIN:VCALENDAR
VERSION:2.0
PRODID:-//ChamberMaster//Event Calendar 2.0//EN
METHOD:PUBLISH
X-PUBLISHED-TTL:P3D
REFRESH-INTERVAL:P3D
CALSCALE:GREGORIAN
BEGIN:VEVENT
DTSTART:20181215T190000Z
DTEND:20181216T190000Z
X-MICROSOFT-CDO-ALLDAYEVENT:FALSE
SUMMARY:Winter Film Series
DESCRIPTION:The Mendocino Film Festival invites you and your family to enjoy the spirit of the season by joining us this December at Coast Cinemas in Fort Bragg for the 3rd Annual Winter Film Series on the big screen. \n \n\nOn Saturday\, Dec. 15\, enjoy the holiday classic Polar Express\, the story of a young boy who embarks on a journey of self-discovery and wonder. The next day\, Sunday\, Dec. 16  laugh with the entire family during Home Alone as a spunky kid outwits a pair of burglars. \n \n\nBoth films will screen at 11 a.m.\, with Santa on hand beginning at 10:15 a.m. for greetings\, be sure to remember your camera! Tickets\, priced at $12 for adults and $7 for youth under the age of 18\, may be purchased online\, at Coast Cinemas\, or by phone. A discounted pass to both films is available\, $20 for adults and $10 for youth. For more information\, call 707-937-0171. All proceeds benefit the 14th Annual Mendocino Film Festival May 30 - June 2\, 2019. \n \n\nThank you to our Series Benefactor: Sean Leland State Farm Insurance \n\nThank you to our Film Sponsors: Spunky Skunk & Brewery Gulch Inn
X-ALT-DESC;FMTTYPE=text/html:<p><span style="background-color:rgb(255\, 255\, 255)\; color:rgb(32\, 56\, 100)\; font-family:times new roman\; font-size:12pt">The Mendocino Film Festival invites you and your family to enjoy the spirit of the season by joining us this December at Coast Cinemas in Fort Bragg for the 3rd Annual Winter Film Series on the big screen. </span></p>\n&nbsp\;\n\n<p><span style="background-color:rgb(255\, 255\, 255)\; color:rgb(32\, 56\, 100)\; font-family:times new roman\; font-size:12pt">On Saturday\, Dec. 15\, enjoy the holiday classic </span><a href="https://www.youtube.com/watch?v=TQhRqtt-Fpo" style="text-decoration-line: none\;"><em>Polar Express</em></a><span style="background-color:rgb(255\, 255\, 255)\; color:rgb(32\, 56\, 100)\; font-family:times new roman\; font-size:12pt">\, the story of a young boy who embarks on a journey of self-discovery and wonder. The next day\, Sunday\, Dec. 16 &nbsp\;laugh with the entire family during </span><a href="https://www.youtube.com/watch?v=jEDaVHmw7r4" style="text-decoration-line: none\;"><em>Home Alone</em></a><span style="background-color:rgb(255\, 255\, 255)\; color:rgb(32\, 56\, 100)\; font-family:times new roman\; font-size:12pt"> as a spunky kid outwits a pair of burglars. </span></p>\n&nbsp\;\n\n<p><span style="background-color:rgb(255\, 255\, 255)\; color:rgb(32\, 56\, 100)\; font-family:times new roman\; font-size:12pt">Both films will screen at 11 a.m.\, with Santa on hand beginning at 10:15 a.m. for greetings\, be sure to remember your camera! Tickets\, priced at $12 for adults and $7 for youth under the age of 18\, may be purchased </span><a href="https://www.eventbrite.com/e/3rd-annual-winter-film-series-tickets-52183572470" style="text-decoration-line: none\;"><span style="background-color:rgb(255\, 255\, 255)\; font-family:times new roman\; font-size:12pt">online</span></a><span style="background-color:rgb(255\, 255\, 255)\; font-family:times new roman\; font-size:12pt">\, at Coast Cinemas\, or by phone. A discounted pass to both films is available\, $20 for adults and $10 for youth. For more information\, call 707-937-0171. All proceeds benefit the 14th Annual Mendocino Film Festival May 30 - June 2\, 2019. </span></p>\n&nbsp\;\n\n<p><span style="background-color:rgb(255\, 255\, 255)\; font-family:times new roman\; font-size:12pt">Thank you to our Series Benefactor: </span><a href="https://www.statefarm.com/agent/US/CA/Fort-Bragg/Sean-Leland-598Z15ZRRAK?cmpid=T2LE_BLM_0001" style="text-decoration-line: none\;"><span style="background-color:rgb(255\, 255\, 255)\; font-family:times new roman\; font-size:12pt">Sean Leland State Farm Insurance</span></a><span style="background-color:rgb(255\, 255\, 255)\; font-family:times new roman\; font-size:12pt"> </span></p>\n\n<div><span style="background-color:rgb(255\, 255\, 255)\; font-family:times new roman\; font-size:12pt">Thank you to our Film Sponsors: </span><a href="http://spunkyskunkfortbragg.com/" style="text-decoration-line: none\;"><span style="background-color:rgb(255\, 255\, 255)\; font-family:times new roman\; font-size:12pt">Spunky Skunk</span></a><span style="background-color:rgb(255\, 255\, 255)\; font-family:times new roman\; font-size:12pt"> &amp\; </span><a href="https://www.brewerygulchinn.com/" style="text-decoration-line: none\;"><span style="background-color:rgb(255\, 255\, 255)\; font-family:times new roman\; font-size:12pt">Brewery Gulch Inn</span></a></div>\n
LOCATION:Coast Cinemas\, 135 S. Franklin St.\, Fort Bragg\, CA 95437
UID:e.2883.10390
SEQUENCE:3
DTSTAMP:20260422T192959Z
URL:http://mendocinocoast.smartcms.site/events/details/winter-film-series-10390
END:VEVENT

END:VCALENDAR
