BEGIN:VCALENDAR
VERSION:2.0
PRODID:-//ChamberMaster//Event Calendar 2.0//EN
METHOD:PUBLISH
X-PUBLISHED-TTL:P3D
REFRESH-INTERVAL:P3D
CALSCALE:GREGORIAN
BEGIN:VEVENT
DTSTART:20170117T043000Z
DTEND:20170117T230000Z
X-MICROSOFT-CDO-ALLDAYEVENT:FALSE
SUMMARY:Winter Concert
DESCRIPTION:Symphony of the Redwoods 2016-2017 season Winter ConcertÂ Saturday\, January 28th at 7:30pmSunday\, January 29th at 2pmÂ At Cotton Auditorium - 500 N. Harold St. Fort Bragg\, CAÂ Tickets are $20\, guests age 18 and under are free. Tickets available at Harvest Market\, Redwood Coast Senior Center\, Out of This World\, and at the door.Â Martinu: Overture for OrchestraMozart: Sinfonia Concertante\, feat. Livia Sohn\, violin and Sharon Wei\, viola.Sibelius: Symphony no. 5Concert Sponsor: Bob Wheat-Edward JonesÂ Contact Alex Pierangeli\, Executive Director at (707) 964-0898 or visit www.symphonyoftheredwoods.org for more information.Â
X-ALT-DESC;FMTTYPE=text/html:<p><span style="white-space: pre\;"> </span>Symphony of the Redwoods 2016-2017 season Winter Concert</p><p>Â </p><p>Saturday\, January 28th at 7:30pm</p><p>Sunday\, January 29th at 2pm</p><p>Â </p><p>At Cotton Auditorium - 500 N. Harold St. Fort Bragg\, CA</p><p>Â </p><p>Tickets are $20\, guests age 18 and under are free. Tickets available at Harvest Market\, Redwood Coast Senior Center\, Out of This World\, and at the door.</p><p>Â </p><p>Martinu: Overture for Orchestra</p><p>Mozart: Sinfonia Concertante\, feat. Livia Sohn\, violin and Sharon Wei\, viola.</p><p>Sibelius: Symphony no. 5</p><p>Concert Sponsor: Bob Wheat-Edward Jones</p><p>Â </p><p>Contact Alex Pierangeli\, Executive Director at (707) 964-0898 or visit www.symphonyoftheredwoods.org for more information.</p><p>Â </p>
LOCATION:Cotton Auditorium Fort Bragg
UID:e.2883.1092
SEQUENCE:3
DTSTAMP:20260424T110006Z
URL:http://mendocinocoast.smartcms.site/events/details/winter-concert-01-16-2017-1092
END:VEVENT

END:VCALENDAR
