BEGIN:VCALENDAR
VERSION:2.0
PRODID:-//ChamberMaster//Event Calendar 2.0//EN
METHOD:PUBLISH
X-PUBLISHED-TTL:P3D
REFRESH-INTERVAL:P3D
CALSCALE:GREGORIAN
BEGIN:VEVENT
DTSTART:20190119T220000Z
DTEND:20190119T230000Z
X-MICROSOFT-CDO-ALLDAYEVENT:FALSE
SUMMARY:Winnie the Pooh Party
DESCRIPTION:Kids! Bring a friend and celebrate National Winnie the Pooh Day with fun crafts\, Pin-the-Tail-on Eeyore\, and delicious snacks like Hunny Grahams and Piglet-Pink Lemonade.
X-ALT-DESC;FMTTYPE=text/html:Kids! Bring a friend and celebrate National Winnie the Pooh Day with fun crafts\, Pin-the-Tail-on Eeyore\, and delicious snacks like Hunny Grahams and Piglet-Pink Lemonade.
LOCATION:Fort Bragg Library 499 E Laurel St Fort Bragg\, CA 95437
UID:e.2883.10529
SEQUENCE:3
DTSTAMP:20260422T174306Z
URL:http://mendocinocoast.smartcms.site/events/details/winnie-the-pooh-party-10529
END:VEVENT

END:VCALENDAR
