BEGIN:VCALENDAR
VERSION:2.0
PRODID:-//ChamberMaster//Event Calendar 2.0//EN
METHOD:PUBLISH
X-PUBLISHED-TTL:P3D
REFRESH-INTERVAL:P3D
CALSCALE:GREGORIAN
BEGIN:VEVENT
DTSTART:20170909T180000Z
DTEND:20170910T000000Z
X-MICROSOFT-CDO-ALLDAYEVENT:FALSE
SUMMARY:Winesong
DESCRIPTION:Stroll through the lush Mendocino Coast Botanical Gardens enjoying world-class vintages from Mendocino\, Sonoma\, Napa\, beer\, spirits\, and food from Mendocino County's finest food purveyors. The Tasting is accented by various musical groups. The Charity Auction benefits the Mendocino Coast District Hospital\, featuring both a silent and live auction. Nearly 200 lots will be offered - wines from the world's most prestigious producers\, rare vintages\, large format bottles\, special vertical and horizontal collections (including a Ch teauneuf-du-Pape collection)\, original art from acclaimed California artists and highly coveted international and domestic vacation packages. Enjoy lunch and reserved table seating in the Live Auction tent\, or you may bid without table seating if you prefer.
X-ALT-DESC;FMTTYPE=text/html:Stroll through the lush Mendocino Coast Botanical Gardens enjoying world-class vintages from Mendocino\, Sonoma\, Napa\, beer\, spirits\, and food from Mendocino County&rsquo\;s finest food purveyors. The Tasting is accented by various musical groups. The Charity Auction benefits the Mendocino Coast District Hospital\, featuring both a silent and live auction. Nearly 200 lots will be offered - wines from the world&rsquo\;s most prestigious producers\, rare vintages\, large format bottles\, special vertical and horizontal collections (including a Ch&acirc\;teauneuf-du-Pape collection)\, original art from acclaimed California artists and highly coveted international and domestic vacation packages. Enjoy lunch and reserved table seating in the Live Auction tent\, or you may bid without table seating if you prefer.
LOCATION:Mendocino Coast Botanical Gardens\, 18220 CA-1\, Fort Bragg\, CA 95437
UID:e.2883.4381
SEQUENCE:3
DTSTAMP:20260423T214409Z
URL:http://mendocinocoast.smartcms.site/events/details/winesong-4381
END:VEVENT

END:VCALENDAR
