BEGIN:VCALENDAR
VERSION:2.0
PRODID:-//ChamberMaster//Event Calendar 2.0//EN
METHOD:PUBLISH
X-PUBLISHED-TTL:P3D
REFRESH-INTERVAL:P3D
CALSCALE:GREGORIAN
BEGIN:VEVENT
DTSTART:20190907T180000Z
DTEND:20190908T000000Z
X-MICROSOFT-CDO-ALLDAYEVENT:FALSE
SUMMARY:Winesong!
DESCRIPTION:Winesong is the premier annual charity auction & wine + food tasting on the Mendocino Coast & is produced by the Mendocino Coast Hospital Foundation. Proceeds are used to enhance equipment\, facilities and services at the Mendocino Coast District Hospital. Since 1985 Winesong has raised over $8 million
X-ALT-DESC;FMTTYPE=text/html:Winesong is the premier annual charity auction &amp\; wine + food tasting on the Mendocino Coast &amp\; is produced by the Mendocino Coast Hospital Foundation. Proceeds are used to enhance equipment\, facilities and services at the Mendocino Coast District Hospital. Since 1985 Winesong has raised over $8 million
LOCATION:Mendocino Coast Botanical Gardens
UID:e.2883.11461
SEQUENCE:3
DTSTAMP:20260422T043108Z
URL:http://mendocinocoast.smartcms.site/events/details/winesong-09-07-2019-11461
END:VEVENT

END:VCALENDAR
