BEGIN:VCALENDAR
VERSION:2.0
PRODID:-//ChamberMaster//Event Calendar 2.0//EN
METHOD:PUBLISH
X-PUBLISHED-TTL:P3D
REFRESH-INTERVAL:P3D
CALSCALE:GREGORIAN
BEGIN:VEVENT
DTSTART:20190830T180000Z
DTEND:20191111T230000Z
X-MICROSOFT-CDO-ALLDAYEVENT:FALSE
SUMMARY:Wind & Water: The Nautical Collection of Norman de Vall
DESCRIPTION:Wind & Water: The Nautical Collection of Norman de Vall. Exhibit opens Aug. 30 through Nov. 11. Museum hours: Fridays through Mondays 11AM to 3PM. Seafaring tools\, sextants\, vintage navigational instruments\, antique charts and more!!
X-ALT-DESC;FMTTYPE=text/html:Wind &amp\; Water: The Nautical Collection of Norman de Vall. Exhibit opens Aug. 30 through Nov. 11. Museum hours: Fridays through Mondays 11AM to 3PM. Seafaring tools\, sextants\, vintage navigational instruments\, antique charts and more!!
LOCATION:Kelley House Museum 45007 Albion Street Mendocino\, CA 95460
UID:e.2883.11953
SEQUENCE:3
DTSTAMP:20260422T011814Z
URL:http://mendocinocoast.smartcms.site/events/details/wind-water-the-nautical-collection-of-norman-de-vall-11953
END:VEVENT

END:VCALENDAR
