BEGIN:VCALENDAR
VERSION:2.0
PRODID:-//ChamberMaster//Event Calendar 2.0//EN
METHOD:PUBLISH
X-PUBLISHED-TTL:P3D
REFRESH-INTERVAL:P3D
CALSCALE:GREGORIAN
BEGIN:VEVENT
DTSTART:20191114T033000Z
DTEND:20191114T050000Z
X-MICROSOFT-CDO-ALLDAYEVENT:FALSE
SUMMARY:WILLY'S LIL VIRGIN QUEEN
DESCRIPTION:It's a madcap\, comic romp! Willy Shakespeare teaches a 20th century Lil Virgin how to ditch the prince and be the Queen in this hilarious solo show by award-winning actress/playwright\, Terra Taylor Knudson.
X-ALT-DESC;FMTTYPE=text/html:<span style="background-color:rgb(250\, 250\, 250)\; color:rgb(125\, 125\, 125)\; font-family:droid sans\,helvetica neue\,helvetica\,arial\,sans-serif\; font-size:18px">It&rsquo\;s a madcap\, comic romp! Willy Shakespeare teaches a 20th century Lil Virgin how to ditch the prince and be the Queen in this hilarious solo show by award-winning actress/playwright\, Terra Taylor Knudson.</span>
LOCATION:Mendocino Theatre Company 45200 Little Lake Street Mendocino
UID:e.2883.12522
SEQUENCE:3
DTSTAMP:20260422T011431Z
URL:http://mendocinocoast.smartcms.site/events/details/willy-s-lil-virgin-queen-12522
END:VEVENT

END:VCALENDAR
