BEGIN:VCALENDAR
VERSION:2.0
PRODID:-//ChamberMaster//Event Calendar 2.0//EN
METHOD:PUBLISH
X-PUBLISHED-TTL:P3D
REFRESH-INTERVAL:P3D
CALSCALE:GREGORIAN
BEGIN:VEVENT
DTSTART:20190316T210000Z
DTEND:20190316T220000Z
X-MICROSOFT-CDO-ALLDAYEVENT:FALSE
SUMMARY:Wild About Whales
DESCRIPTION:It's whale watching time and who better to brief us on what not to miss than our own resident whale expert\, Dave Alden? Join us for a whale of a time at this FREE event at Fort Bragg Library. Dave volunteers his time as a Marine Science Docent at local parks and is a Rescue Volunteer for The Marine Mammal Center\, helping rescue stranded marine mammals along the Mendocino coast. Dave is also a member of the Board of Directors for the Noyo Center for Marine Science.
X-ALT-DESC;FMTTYPE=text/html:It&#39\;s whale watching time and who better to brief us on what not to miss than our own resident whale expert\, Dave Alden? Join us for a whale of a time at this FREE event at Fort Bragg Library. Dave volunteers his time as a Marine Science Docent at local parks and is a Rescue Volunteer for The Marine Mammal Center\, helping rescue stranded marine mammals along the Mendocino coast. Dave is also a member of the Board of Directors for the Noyo Center for Marine Science.
LOCATION:Fort Bragg Library 499 E Laurel St Fort Bragg\, CA 95437
UID:e.2883.11313
SEQUENCE:3
DTSTAMP:20260422T143750Z
URL:http://mendocinocoast.smartcms.site/events/details/wild-about-whales-11313
END:VEVENT

END:VCALENDAR
