BEGIN:VCALENDAR
VERSION:2.0
PRODID:-//ChamberMaster//Event Calendar 2.0//EN
METHOD:PUBLISH
X-PUBLISHED-TTL:P3D
REFRESH-INTERVAL:P3D
CALSCALE:GREGORIAN
BEGIN:VEVENT
DTSTART:20190126T220000Z
DTEND:20190126T230000Z
X-MICROSOFT-CDO-ALLDAYEVENT:FALSE
SUMMARY:Wild About Owls
DESCRIPTION:Whoo\, hoo! Calling all birders! Are you wild about owls? We are! Fort Bragg Library presents a day of programs about this fascinating bird. We'll have an Owl Kids Story Time\, an Owl Kids Craft\, and an Owl Presentation with field biologist\, Mike Stephens\, who will talk about local owls and the importance of protecting their habitat. Come learn interesting facts about these hidden beauties!
X-ALT-DESC;FMTTYPE=text/html:Whoo\, hoo! Calling all birders! Are you wild about owls? We are! Fort Bragg Library presents a day of programs about this fascinating bird. We&#39\;ll have an Owl Kids Story Time\, an Owl Kids Craft\, and an Owl Presentation with field biologist\, Mike Stephens\, who will talk about local owls and the importance of protecting their habitat. Come learn interesting facts about these hidden beauties!
LOCATION:Fort Bragg Library 499 E. Laurel St Fort Bragg\, CA 95437
UID:e.2883.10531
SEQUENCE:3
DTSTAMP:20260422T174147Z
URL:http://mendocinocoast.smartcms.site/events/details/wild-about-owls-10531
END:VEVENT

END:VCALENDAR
