BEGIN:VCALENDAR
VERSION:2.0
PRODID:-//ChamberMaster//Event Calendar 2.0//EN
METHOD:PUBLISH
X-PUBLISHED-TTL:P3D
REFRESH-INTERVAL:P3D
CALSCALE:GREGORIAN
BEGIN:VEVENT
DTSTART:20190324T170000Z
DTEND:20190324T180000Z
X-MICROSOFT-CDO-ALLDAYEVENT:FALSE
SUMMARY:Whale Walks on the Noyo Headlands
DESCRIPTION:New Docents & Volunteers Wanted! Have you been thinking of joining our team but haven't taken that first step? Take it on the new coastal trail  Join our Noyo Center for Marine Science's Educational Coordinator\, Sue Coulter and take a whale walk along the South Noyo Headlands Coastal Trail. Look for whales and learn about our coast's natural history\, Noyo Center's programs and marine mammals. *Bad weather cancels this event\, but there will be more!*
X-ALT-DESC;FMTTYPE=text/html:New Docents &amp\; Volunteers Wanted! Have you been thinking of joining our team but haven&rsquo\;t taken that first step? Take it on the new coastal trail&hellip\; Join our Noyo Center for Marine Science&rsquo\;s Educational Coordinator\, Sue Coulter and take a whale walk along the South Noyo Headlands Coastal Trail. Look for whales and learn about our coast&rsquo\;s natural history\, Noyo Center&rsquo\;s programs and marine mammals. *Bad weather cancels this event\, but there will be more!*
LOCATION:Take Cypress Street West to Noyo Headlands Parking Lot (Meet at the trail head near the bathrooms)
UID:e.2883.11303
SEQUENCE:3
DTSTAMP:20260422T144059Z
URL:http://mendocinocoast.smartcms.site/events/details/whale-walks-on-the-noyo-headlands-03-24-2019-11303
END:VEVENT

END:VCALENDAR
