BEGIN:VCALENDAR
VERSION:2.0
PRODID:-//ChamberMaster//Event Calendar 2.0//EN
METHOD:PUBLISH
X-PUBLISHED-TTL:P3D
REFRESH-INTERVAL:P3D
CALSCALE:GREGORIAN
BEGIN:VEVENT
DTSTART:20190316T200000Z
DTEND:20190316T230000Z
X-MICROSOFT-CDO-ALLDAYEVENT:FALSE
SUMMARY:Whale Festival Wine Tasting
DESCRIPTION:Our new downtown center offers a makerspace\, virtual reality dome\, retail space and natural history exhibits\, including our 26ft Orca skeleton! The Noyo Center for Marine Science has secured an interim space in Downtown Fort Bragg so that we can bring more marine science to the coast while we work through the redesign and future work to build a science center on the 11 acre property located on the Noyo Headlands.
X-ALT-DESC;FMTTYPE=text/html:Our new downtown center offers a makerspace\, virtual reality dome\, retail space and natural history exhibits\, including our 26ft Orca skeleton! The Noyo Center for Marine Science has secured an interim space in Downtown Fort Bragg so that we can bring more marine science to the coast while we work through the redesign and future work to build a science center on the 11 acre property located on the Noyo Headlands.
LOCATION:Downtown Noyo Center for Marine Science 338 N. Main Street\, Fort Bragg\, CA
UID:e.2883.11298
SEQUENCE:3
DTSTAMP:20260422T143927Z
URL:http://mendocinocoast.smartcms.site/events/details/whale-festival-wine-tasting-11298
END:VEVENT

END:VCALENDAR
