BEGIN:VCALENDAR
VERSION:2.0
PRODID:-//ChamberMaster//Event Calendar 2.0//EN
METHOD:PUBLISH
X-PUBLISHED-TTL:P3D
REFRESH-INTERVAL:P3D
CALSCALE:GREGORIAN
BEGIN:VEVENT
DTSTART;VALUE=DATE:20200328
DTEND;VALUE=DATE:20200329
TRANSP:TRANSPARENT
X-MICROSOFT-CDO-ALLDAYEVENT:TRUE
SUMMARY:Westport Whale Festival
DESCRIPTION:Westport's 4th annual Whale Fest kids treasure hunt\, live music\, chowder bowls\,beer &wine\, carfts and onsite marine biologist for guided whale watching and ocean conservation conversation.
X-ALT-DESC;FMTTYPE=text/html:Westport&#39\;s 4th annual Whale Fest kids treasure hunt\, live music\, chowder bowls\,beer &amp\;wine\, carfts and onsite marine biologist for guided whale watching and ocean conservation conversation.
LOCATION:Westport Headlands & Whale House
UID:e.2883.12890
SEQUENCE:3
DTSTAMP:20260421T184416Z
URL:http://mendocinocoast.smartcms.site/events/details/westport-whale-festival-12890
END:VEVENT

END:VCALENDAR
