BEGIN:VCALENDAR
VERSION:2.0
PRODID:-//ChamberMaster//Event Calendar 2.0//EN
METHOD:PUBLISH
X-PUBLISHED-TTL:P3D
REFRESH-INTERVAL:P3D
CALSCALE:GREGORIAN
BEGIN:VEVENT
DTSTART:20160804T190000Z
DTEND:20160805T020000Z
X-MICROSOFT-CDO-ALLDAYEVENT:FALSE
SUMMARY:Westport Fire Department Barbecue
DESCRIPTION:Join us for an afternoon of fun and live music by several great local performers on the Westport Headlands. Â Enjoy barrel roasted tri tip\, chicken or a vegetarian meal. Â Beer\, wine and dessert will also be available. Â There will be plenty of fun activities for the whole family (sorry\, no dogs).
X-ALT-DESC;FMTTYPE=text/html:<p>Join us for an afternoon of fun and live music by several great local performers on the Westport Headlands. Â Enjoy barrel roasted tri tip\, chicken or a vegetarian meal. Â Beer\, wine and dessert will also be available. Â There will be plenty of fun activities for the whole family (sorry\, no dogs).</p>
LOCATION:Westport Headlands
UID:e.2883.993
SEQUENCE:3
DTSTAMP:20260424T194154Z
URL:http://mendocinocoast.smartcms.site/events/details/westport-fire-department-barbecue-08-04-2016-993
END:VEVENT

END:VCALENDAR
