BEGIN:VCALENDAR
VERSION:2.0
PRODID:-//ChamberMaster//Event Calendar 2.0//EN
METHOD:PUBLISH
X-PUBLISHED-TTL:P3D
REFRESH-INTERVAL:P3D
CALSCALE:GREGORIAN
BEGIN:VEVENT
DTSTART:20180309T013000Z
DTEND:20180309T040000Z
X-MICROSOFT-CDO-ALLDAYEVENT:FALSE
SUMMARY:West Company Workshop: The Emerging Power of Feminine Leadership: 7 Habits of Highly Effective Women in Business FORT BRAGG
DESCRIPTION:CELEBRATE INTERNATIONAL WOMEN'S DAY with Mary O'Conner\, Founder and CEO of The Ecstatic Entrepreneur\n\nThere has never been a time in history when more women will be in positions of power than in this coming decade. Why have some women be able to say YES to taking on important positions of power and other women shy away?\n\nWhen we look closely at what is the difference in those who succeed and those who hesitate\, there are specific habits demonstrated by women who succeed. These habits are not intuitive\; they must be learned and practiced.\n\nThere are also three fundamental myths that women buy into\, that inhibit their power and leadership traits to shine through. Learn how these myths keep women from even trying.\n\nIn the presentation you will learn:\n\n\n	The 3 myths of why women can't be powerful leaders\n	The 7 habits of highly successful women in business\n	What gets in the way of being more "leaderful" in your own life.\n	Discover your strengths as a leader\n	One immediate thing you can start doing to strengthen your leadership muscle\n\n\nGather your friends\, family and colleagues and join us to celebrate and encourage a new age in leadership.\n\n"Women exceed men in almost every area of leadership\; it's time for us to show up and claim our rightful place in every area of leadership: in our lives\, in our businesses\, and in our government."\n\nDoors open: 5:30 pm\n\nProgram begins: 6 pm\n\nRefreshments served\nChamber Member: $25\n\nNon Chamber Member: $30
X-ALT-DESC;FMTTYPE=text/html:<h2><strong>CELEBRATE INTERNATIONAL WOMEN&rsquo\;S DAY</strong><span style="font-size:13px">&nbsp\;with Mary O&rsquo\;Conner\,&nbsp\;Founder and CEO of&nbsp\;</span><em>The Ecstatic Entrepreneur</em></h2>\n\n<p>There has never been a time in history when more women will be in positions of power than in this coming decade. Why have some women be able to say YES to taking on important positions of power and other women shy away?</p>\n\n<p>When we look closely at what is the difference in those who succeed and those who hesitate\, there are specific habits demonstrated by women who succeed. These habits are not intuitive\; they must be learned and practiced.</p>\n\n<p>There are also three fundamental&nbsp\;<em>myths</em>&nbsp\;that women buy into\, that inhibit their power and leadership traits to shine through. Learn how these myths keep women from even trying.</p>\n\n<p>In the presentation you will learn:</p>\n\n<ul>\n	<li>The 3 myths of why women can&rsquo\;t be powerful leaders</li>\n	<li>The 7 habits of highly successful women in business</li>\n	<li>What gets in the way of being more &ldquo\;leaderful&rdquo\; in your own life.</li>\n	<li>Discover your strengths as a leader</li>\n	<li>One immediate thing you can start doing to strengthen your leadership muscle</li>\n</ul>\n\n<p><em>Gather your friends\, family and colleagues and join us to celebrate and encourage a new age in leadership.</em></p>\n\n<p><em>&ldquo\;Women exceed men in almost every area of leadership\; it&rsquo\;s time for us to show up and claim our rightful place in every area of leadership: in our lives\, in our businesses\, and in our government.&rdquo\;</em></p>\n\n<p><em>Doors open: 5:30 pm</em><br />\n<em>Program begins: 6 pm</em><br />\n<em>Refreshments served</em></p>\nChamber Member: $25<br />\nNon Chamber Member: $30
LOCATION:Fort Bragg Town Hall 363 N. Main Street Fort Bragg\, 95437
UID:e.2883.5543
SEQUENCE:3
DTSTAMP:20260423T105805Z
URL:http://mendocinocoast.smartcms.site/events/details/west-company-workshop-the-emerging-power-of-feminine-leadership-7-habits-of-highly-effective-women-in-business-fort-bragg-5543
END:VEVENT

END:VCALENDAR
