BEGIN:VCALENDAR
VERSION:2.0
PRODID:-//ChamberMaster//Event Calendar 2.0//EN
METHOD:PUBLISH
X-PUBLISHED-TTL:P3D
REFRESH-INTERVAL:P3D
CALSCALE:GREGORIAN
BEGIN:VEVENT
DTSTART:20171103T010000Z
DTEND:20171103T023000Z
X-MICROSOFT-CDO-ALLDAYEVENT:FALSE
SUMMARY:West Company Workshop: Financial Systems That Support Your Goals
DESCRIPTION:As a business owner\, you think about money a lot. You talk about it. You worry about it. You plan for what you will do when you have more of it. Don't fly by the seat of your pants. Learn the four key elements of a financial management system that will give a business owner the information necessary to grow. Understand how to apply this information to day to day decisions and what it tells you about the future of your company.  \n\n \n\nProduced by the West Company\, a nonprofit\, economic development organization providing Free one-on-one business counseling and workshops to targeted communities for economic and social empowerment. Serving all of Mendocino County.\n\n \n\n#businessfinance #businesscoaching #businessbasics #ideastoaction #westcoworkshop #westcompany #mendocoastworkshops\n\n\n\nChamber Member: $20\n\nNon Chamber Member: $25\n\nRegistration Required: https://financialsystems110217.eventbrite.com
X-ALT-DESC;FMTTYPE=text/html:As a business owner\, you think about money a lot. You talk about it. You worry about it. You plan for what you will do when you have more of it. Don&rsquo\;t fly by the seat of your pants. Learn the four key elements of a financial management system that will give a business owner the information necessary to grow. Understand how to apply this information to day to day decisions and what it tells you about the future of your company.&nbsp\;&nbsp\;<br />\n&nbsp\;<br />\nProduced by the West Company\,&nbsp\;a nonprofit\, economic development organization providing Free one-on-one business counseling and workshops to targeted communities for economic and social empowerment. Serving all of Mendocino County.<br />\n&nbsp\;<br />\n#businessfinance #businesscoaching #businessbasics #ideastoaction #westcoworkshop #westcompany #mendocoastworkshops<br />\n<br />\nChamber Member: $20<br />\nNon Chamber Member: $25<br />\nRegistration Required: <a href="https://financialsystems110217.eventbrite.com">https://financialsystems110217.eventbrite.com</a><br />\n&nbsp\;
LOCATION:West Company Corporate Office 760 B Stewart Street Fort Bragg\, CA 95437
UID:e.2883.4455
SEQUENCE:3
DTSTAMP:20260423T191202Z
URL:http://mendocinocoast.smartcms.site/events/details/west-company-workshop-financial-systems-that-support-your-goals-4455
END:VEVENT

END:VCALENDAR
