BEGIN:VCALENDAR
VERSION:2.0
PRODID:-//ChamberMaster//Event Calendar 2.0//EN
METHOD:PUBLISH
X-PUBLISHED-TTL:P3D
REFRESH-INTERVAL:P3D
CALSCALE:GREGORIAN
BEGIN:VEVENT
DTSTART:20171022T020000Z
DTEND:20171022T040000Z
X-MICROSOFT-CDO-ALLDAYEVENT:FALSE
SUMMARY:West Coast Swing
DESCRIPTION:Join us for a beginners workshop taught by Anna Brinckmann and Pato Lankenau followed by an hour of social dancing. All ages\, community venue. Free admission but donations are welcome. Preston Hall Date: Saturday Oct. 21st Time: 7-9pm West Coast Swing is a dance morphed from lindy hop to fit modern day music. Most commonly danced to blues\, contemporary and hip hop music. Contact instructor: (707)-484-5415 or Brinckmann1@comcast.net
X-ALT-DESC;FMTTYPE=text/html:Join us for a beginners workshop taught by Anna Brinckmann and Pato Lankenau followed by an hour of social dancing. All ages\, community venue. Free admission but donations are welcome. Preston Hall Date: Saturday Oct. 21st Time: 7-9pm West Coast Swing is a dance morphed from lindy hop to fit modern day music. Most commonly danced to blues\, contemporary and hip hop music. Contact instructor: (707)-484-5415 or Brinckmann1@comcast.net
LOCATION:Preston Hall 44831 Main Street\, Mendocino
UID:e.2883.5266
SEQUENCE:3
DTSTAMP:20260423T214410Z
URL:http://mendocinocoast.smartcms.site/events/details/west-coast-swing-5266
END:VEVENT

END:VCALENDAR
