BEGIN:VCALENDAR
VERSION:2.0
PRODID:-//ChamberMaster//Event Calendar 2.0//EN
METHOD:PUBLISH
X-PUBLISHED-TTL:P3D
REFRESH-INTERVAL:P3D
CALSCALE:GREGORIAN
BEGIN:VEVENT
DTSTART:20170916T170000Z
DTEND:20170917T000000Z
X-MICROSOFT-CDO-ALLDAYEVENT:FALSE
SUMMARY:Wendell Rickon: A Bedroom of Furniture and Accessories
DESCRIPTION:Wendell Rickon transforms MAC's Nichols Gallery into "A Bedroom of Furniture and Accessories" in the rustic\, recycled and upcycled tradition. "The idea of creating an entire bedroom of furniture in my style of woodworking has been on my mind for several years\," Wendell explains. "So when I was asked to produce a show at the Mendocino Art Center I knew right away what the theme would be." Wendell has creatively constructed furniture items out of fruit boxes\, wooden coat hangers\, window frames\, firewood\, driftwood\, pallets\, a flywheel and more.\n\n \n\nFree Second Saturday Artists Reception: August 12\, 5pm-8pm.
X-ALT-DESC;FMTTYPE=text/html:<span style="font-family:helvetica">Wendell Rickon transforms MAC&rsquo\;s Nichols Gallery into &ldquo\;A Bedroom of Furniture and Accessories&rdquo\; in the rustic\, recycled and upcycled tradition<span style="color:black">. &ldquo\;</span></span><span style="color:black"><span style="font-family:helvetica">The idea of creating an entire bedroom of furniture in my style of woodworking has been on my mind for several years\,&rdquo\; Wendell explains. &ldquo\;So when I was asked to produce a show at the Mendocino Art Center I knew right away what the theme would be.&rdquo\; Wendell has creatively constructed furniture items out of fruit boxes\, wooden coat hangers\, window frames\, firewood\, driftwood\, pallets\, a flywheel and more.</span></span><br />\n&nbsp\;<br />\n<span style="font-family:helvetica">Free Second Saturday Artists Reception: August 12\, 5pm-8pm.</span>
LOCATION:Mendocino Art Center 45200 Little Lake Street\, Mendocino
UID:e.2883.3738
SEQUENCE:3
DTSTAMP:20260423T215859Z
URL:http://mendocinocoast.smartcms.site/events/details/wendell-rickon-a-bedroom-of-furniture-and-accessories-09-16-2017-3738
END:VEVENT

END:VCALENDAR
