BEGIN:VCALENDAR
VERSION:2.0
PRODID:-//ChamberMaster//Event Calendar 2.0//EN
METHOD:PUBLISH
X-PUBLISHED-TTL:P3D
REFRESH-INTERVAL:P3D
CALSCALE:GREGORIAN
BEGIN:VEVENT
DTSTART:20200118T190000Z
DTEND:20200118T210000Z
X-MICROSOFT-CDO-ALLDAYEVENT:FALSE
SUMMARY:Walking Tour of the Mendocino Village
DESCRIPTION:Tours meet at the 45007 Albion Street porch of the Kelley House Museum. They run every Saturday at 2 pm\n\n\n\nJoin our local history experts on a lively  two-hour walk through Mendocino's famous Historic District. Find out why movie directors have used its distinctive architecture as a shooting location in dozens of films. Understand the importance of the lumber industry here on the coast. Discover the reason we have been known as the city of Water Towers. Cost is $20 per person\, which can be paid at the door. New tour times are updated monthly\, find additional tour times\, and you can also book your seat in advance.
X-ALT-DESC;FMTTYPE=text/html:<span style="font-size:16px\;">Tours meet at the 45007 Albion Street porch of the Kelley House Museum. They run every Saturday at 2 pm<br />\n<br />\nJoin our local history experts on a lively &nbsp\;two-hour walk through Mendocino&rsquo\;s famous Historic District. Find out why movie directors have used its distinctive architecture as a shooting location in dozens of films. Understand the importance of the lumber industry here on the coast. Discover the reason we have been known as the city of Water Towers. Cost is $20 per person\, which can be paid at the door. New tour times are updated monthly\, find additional tour times\, and you can also book your seat in advance.</span>
LOCATION:Kelley House Museum 45007 Albion St Mendocino\,CA 95460
UID:e.2883.12622
SEQUENCE:3
DTSTAMP:20260421T215642Z
URL:http://mendocinocoast.smartcms.site/events/details/walking-tour-of-the-mendocino-village-12622
END:VEVENT

END:VCALENDAR
