BEGIN:VCALENDAR
VERSION:2.0
PRODID:-//ChamberMaster//Event Calendar 2.0//EN
METHOD:PUBLISH
X-PUBLISHED-TTL:P3D
REFRESH-INTERVAL:P3D
CALSCALE:GREGORIAN
BEGIN:VEVENT
DTSTART:20181215T180000Z
DTEND:20181215T200000Z
X-MICROSOFT-CDO-ALLDAYEVENT:FALSE
SUMMARY:Walk Among Giants with the Mendocino Land Trust
DESCRIPTION:Join Mendocino Land Trust for a holiday hike to the Ridgewood Ranch Redwood Grove. Take a break from holiday errands and walk with us among the towering old-growth redwood trees and share some hot cider. You will receive a Save the Redwoods League hat\, since the League was a partner in funding the preservation of this beautiful grove. This will be an easy\, family friendly 1 mile hike to the redwood grove\, with little or no elevation gain. RSVP is required. This event is weather dependent and will be cancelled for rain. (707) 962-0470 or admin@mendocinolandtrust.org   we'll share detailed parking directions when you call or email.
X-ALT-DESC;FMTTYPE=text/html:Join Mendocino Land Trust for a holiday hike to the Ridgewood Ranch Redwood Grove. Take a break from holiday errands and walk with us among the towering old-growth redwood trees and share some hot cider. You will receive a Save the Redwoods League hat\, since the League was a partner in funding the preservation of this beautiful grove. This will be an easy\, family friendly 1 mile hike to the redwood grove\, with little or no elevation gain. RSVP is required. This event is weather dependent and will be cancelled for rain. (707) 962-0470 or admin@mendocinolandtrust.org &ndash\; we&rsquo\;ll share detailed parking directions when you call or email.
LOCATION:Ridgewood Ranch\, Willits
UID:e.2883.10429
SEQUENCE:3
DTSTAMP:20260422T193006Z
URL:http://mendocinocoast.smartcms.site/events/details/walk-among-giants-with-the-mendocino-land-trust-10429
END:VEVENT

END:VCALENDAR
