BEGIN:VCALENDAR
VERSION:2.0
PRODID:-//ChamberMaster//Event Calendar 2.0//EN
METHOD:PUBLISH
X-PUBLISHED-TTL:P3D
REFRESH-INTERVAL:P3D
CALSCALE:GREGORIAN
BEGIN:VEVENT
DTSTART:20200206T030000Z
DTEND:20200206T050000Z
X-MICROSOFT-CDO-ALLDAYEVENT:FALSE
SUMMARY:VERTIGO - Classic Film Series
DESCRIPTION:Vertigo is considered by Hitchcock aficionados as the master filmmaker at the pinnacle of his creative powers and by all measures a masterpiece of cinema. The film underwent a major restoration in 2018 to create a new 70mm print and DTS soundtrack and we will be screening the 4K digital version of this restoration.\n\n\n\nVertigo replaced Citizen Kane as the "greatest film ever made" in the British Film Institute's Sight & Sound critics' poll and appears repeatedly in polls of the best films by the American Film Institute including a ranking as "the ninth greatest American movie of all time.\n\n\n\nAdvance tickets are available @ Coast Cinemas $10.00 (cash only) or ONLINE.\n\n\n\nWe are grateful for the support of tonight's sponsors Moody's Organic Coffeebar in Mendocino\, Brewery Gulch Inn in Mendocino\, The Coast KOZT-FM  and of course Mendocino Film Festival. We hope you will thank all of the sponsors and support their business'
X-ALT-DESC;FMTTYPE=text/html:<em>Vertigo </em>is considered by Hitchcock aficionados as the master filmmaker at the pinnacle of his creative powers and by all measures a masterpiece of cinema. The film underwent a major restoration in 2018 to create a new 70mm print and DTS soundtrack and we will be screening the 4K digital version of this restoration.<br />\n<br />\n<em>Vertigo </em>replaced <em>Citizen Kane</em> as the &quot\;greatest film ever made&quot\; in the British Film Institute&#39\;s Sight &amp\; Sound critics&#39\; poll and appears repeatedly in polls of the best films by the American Film Institute including a ranking as &quot\;the ninth greatest American movie of all time.<br />\n<br />\nAdvance tickets are available @ <a href="https://thecoastcinemas.com/">Coast Cinemas</a> $10.00 (cash only) or <a href="https://mffclassicfilm.eventive.org/schedule/vertigo-5e163d7a88a5bd0031b994e0">ONLINE</a>.<br />\n<br />\nWe are grateful for the support of tonight&#39\;s sponsors <a href="https://www.facebook.com/moodyscoffee/">Moody&#39\;s Organic Coffeebar</a> in Mendocino\, <a href="https://www.brewerygulchinn.com/">Brewery Gulch Inn</a> in Mendocino\, <a href="https://www.kozt.com/">The Coast KOZT-FM</a>&nbsp\; and of course <a href="http://www.mendocinofilmfestival.org/">Mendocino Film Festival</a>. We hope you will thank all of the sponsors and support their business&#39\;
LOCATION:Coast Cinemas - 135 S. Franklin St. Fort Bragg\, CA. 95437
UID:e.2883.12625
SEQUENCE:3
DTSTAMP:20260421T201411Z
URL:http://mendocinocoast.smartcms.site/events/details/vertigo-classic-film-series-12625
END:VEVENT

END:VCALENDAR
