BEGIN:VCALENDAR
VERSION:2.0
PRODID:-//ChamberMaster//Event Calendar 2.0//EN
METHOD:PUBLISH
X-PUBLISHED-TTL:P3D
REFRESH-INTERVAL:P3D
CALSCALE:GREGORIAN
BEGIN:VEVENT
DTSTART:20190215T010000Z
DTEND:20190215T050000Z
X-MICROSOFT-CDO-ALLDAYEVENT:FALSE
SUMMARY:valentines day at the Ledford House
DESCRIPTION:
X-ALT-DESC;FMTTYPE=text/html:
LOCATION:Ledford House Restaurant 3000 N. Highway One Albion\, Ca
UID:e.2883.11258
SEQUENCE:3
DTSTAMP:20260422T162024Z
URL:http://mendocinocoast.smartcms.site/events/details/valentines-day-at-the-ledford-house-11258
END:VEVENT

END:VCALENDAR
