BEGIN:VCALENDAR
VERSION:2.0
PRODID:-//ChamberMaster//Event Calendar 2.0//EN
METHOD:PUBLISH
X-PUBLISHED-TTL:P3D
REFRESH-INTERVAL:P3D
CALSCALE:GREGORIAN
BEGIN:VEVENT
DTSTART:20200215T030000Z
DTEND:20200215T043000Z
X-MICROSOFT-CDO-ALLDAYEVENT:FALSE
SUMMARY:Valentine’s Show – Sharon Garner and The Dorian May Trio
DESCRIPTION:Expect the maximum creative love fest   Sequoia Room-style   as Sharon Garner   vocals\, Dorian May   piano\, Dorothea May   bass and Gabriel Y  ez   drums\, bringing fresh arrangements of love songs\, standards and more with loads of heart & soul.\n\nThere will be dinner specials "for two"\, but The Sequoia Room is a fine venue for singles as well as couples.\n+ GOOGLE CALENDAR+ ICAL EXPORT\n\n\n\nDetails\nDate:\n\nFebruary 14\n\nCost:\n\n$10\n\nEvent Tags:\n\nDorian May\, Dorothea May\, Gabriel Ya ez\, sharon garner\n\n a class="ticket-button" data-cke-saved-href="https://www.etix.com/ticket/p/3334856/sharon-garner-the-dorian-may-trio-fort-bragg-the-sequoia-room?country=US&language=en" href="https://www.etix.com/ticket/p/3334856/sharon-garner-the-dorian-may-trio-fort-bragg-the-sequoia-room?country=US&language=en" "="" target="_blank" style="box-sizing: border-box\; margin: 0px\; padding: 6px 20px\; border: 2px solid\; outline: 0px\; background: transparent\; vertical-align: baseline\; text-size-adjust: 100%\; text-decoration-line: none\; display: inline-block\; float: none\; top: 2px\; border-radius: 3px\; line-height: 1.7em\; -webkit-font-smoothing: antialiased\; transition: all 0.2s ease 0s\; position: relative\; cursor: pointer\; color: rgb(129\, 32\, 38) !important\;" Get Tickets
X-ALT-DESC;FMTTYPE=text/html:<span style="color:rgb(119\, 119\, 119)\; font-family:roboto\,helvetica\,arial\,lucida\,sans-serif\; font-size:18px">Expect the maximum creative love fest &ndash\; Sequoia Room-style &ndash\; as&nbsp\;</span><strong>Sharon Garner</strong><span style="color:rgb(119\, 119\, 119)\; font-family:roboto\,helvetica\,arial\,lucida\,sans-serif\; font-size:18px">&nbsp\;&ndash\; vocals\,&nbsp\;</span><strong>Dorian May</strong><span style="color:rgb(119\, 119\, 119)\; font-family:roboto\,helvetica\,arial\,lucida\,sans-serif\; font-size:18px">&nbsp\;&ndash\; piano\,&nbsp\;</span><strong>Dorothea May</strong><span style="color:rgb(119\, 119\, 119)\; font-family:roboto\,helvetica\,arial\,lucida\,sans-serif\; font-size:18px">&nbsp\;&ndash\; bass and&nbsp\;</span><strong>Gabriel Y&aacute\;&ntilde\;ez</strong><span style="color:rgb(119\, 119\, 119)\; font-family:roboto\,helvetica\,arial\,lucida\,sans-serif\; font-size:18px">&nbsp\;&ndash\; drums\, bringing fresh arrangements of love songs\, standards and more with loads of heart &amp\; soul.<br />\nThere will be dinner specials &ldquo\;for two&rdquo\;\, but The Sequoia Room is a fine venue for singles as well as couples.</span>\n<div><a class="tribe-events-gcal tribe-events-button" href="https://www.google.com/calendar/event?action=TEMPLATE&amp\;text=Valentine%27s+Show+-+Sharon+Garner+and+The+Dorian+May+Trio&amp\;dates=20200214/20200215&amp\;details=Sharon+Garner+and+The+Dorian+May+Trio%0AFriday+February+14+%28Valentines+Day%29+%40+7%3A30+pm%0ADinner+seating+begins+at+6%3A15%0AExpect+the+maximum+creative+love+fest+%26%238211%3B+Sequoia+Room-style+%26%238211%3B+as+Sharon+Garner+%26%238211%3B+vocals%2C+Dorian+May+%26%238211%3B+piano%2C+Dorothea+May+%26%238211%3B+bass+and+Gabriel+Y%C3%A1%C3%B1ez+%26%238211%3B+drums%2C+bringing+fresh+arrangements+of+love+songs%2C+standards+and+more+with+loads+of+heart+%26amp%3B+soul.+%0AThere+will+be+dinner+specials+%26%238220%3Bfor+two%26%238221%3B%2C+but+The+Sequoia+Room+is+a+fine+venue+for+singles+as+well+as+couples.+%0A&amp\;location=Sequoia+Room%2C+444+North+Main+Street%2C+Fort+Bragg%2C+CA%2C+95437%2C+United+States&amp\;trp=false&amp\;sprop=website:https://northcoastbrewing.com&amp\;ctz=America%2FLos_Angeles" style="box-sizing: border-box\; margin: 21px 9px 0px 0px\; padding: 6px 9px\; border: 0px\; outline: 0px\; background: none 0px 0px rgb(52\, 16\, 19)\; font-size: 11px\; vertical-align: middle\; text-size-adjust: 100%\; color: rgb(255\, 255\, 255)\; text-decoration-line: none\; border-radius: 3px\; box-shadow: none\; cursor: pointer\; display: inline-block\; font-weight: 700\; letter-spacing: 1px\; line-height: normal\; text-align: center\; text-transform: uppercase\; zoom: 1\; clear: both\; float: none\;" title="Add to Google Calendar">+ GOOGLE CALENDAR</a><a class="tribe-events-ical tribe-events-button" href="https://northcoastbrewing.com/jazz-event/valentines-show-sharon-garner-and-the-dorian-may-trio/?ical=1&amp\;tribe_display=" style="box-sizing: border-box\; margin: 21px 0px 0px\; padding: 6px 9px\; border: 0px\; outline: 0px\; background: none 0px 0px rgb(52\, 16\, 19)\; font-size: 11px\; vertical-align: middle\; text-size-adjust: 100%\; color: rgb(255\, 255\, 255)\; text-decoration-line: none\; border-radius: 3px\; box-shadow: none\; cursor: pointer\; display: inline-block\; font-weight: 700\; letter-spacing: 1px\; line-height: normal\; text-align: center\; text-transform: uppercase\; zoom: 1\; clear: both\; float: none\;" title="Download .ics file">+ ICAL EXPORT</a></div>\n\n<div style="background:rgb(250\, 250\, 250)\; border:1px solid rgb(238\, 238\, 238)\; padding:0px">\n<div style="background:0px 0px\; border:0px\; padding:0px 42.3153px">\n<h3>Details</h3>\nDate:<br />\nFebruary 14<br />\nCost:<br />\n$10<br />\nEvent Tags:<br />\n<a href="https://northcoastbrewing.com/tag/dorian-may/" rel="tag" style="box-sizing: border-box\; margin: 0px\; padding: 0px\; border: 0px\; outline: 0px\; background: 0px 0px\; vertical-align: baseline\; text-size-adjust: 100%\; color: rgb(131\, 34\, 39)\; text-decoration-line: none\;">Dorian May</a>\,&nbsp\;<a href="https://northcoastbrewing.com/tag/dorothea-may/" rel="tag" style="box-sizing: border-box\; margin: 0px\; padding: 0px\; border: 0px\; outline: 0px\; background: 0px 0px\; vertical-align: baseline\; text-size-adjust: 100%\; color: rgb(131\, 34\, 39)\; text-decoration-line: none\;">Dorothea May</a>\,&nbsp\;<a href="https://northcoastbrewing.com/tag/gabriel-yanez/" rel="tag" style="box-sizing: border-box\; margin: 0px\; padding: 0px\; border: 0px\; outline: 0px\; background: 0px 0px\; vertical-align: baseline\; text-size-adjust: 100%\; color: rgb(131\, 34\, 39)\; text-decoration-line: none\;">Gabriel Ya&ntilde\;ez</a>\,&nbsp\;<a href="https://northcoastbrewing.com/tag/sharon-garner/" rel="tag" style="box-sizing: border-box\; margin: 0px\; padding: 0px\; border: 0px\; outline: 0px\; background: 0px 0px\; vertical-align: baseline\; text-size-adjust: 100%\; color: rgb(131\, 34\, 39)\; text-decoration-line: none\;">sharon garner</a><br />\n&lt\;a class=&quot\;ticket-button&quot\; data-cke-saved-href=&quot\;https://www.etix.com/ticket/p/3334856/sharon-garner-the-dorian-may-trio-fort-bragg-the-sequoia-room?country=US&amp\;language=en&quot\; href=&quot\;https://www.etix.com/ticket/p/3334856/sharon-garner-the-dorian-may-trio-fort-bragg-the-sequoia-room?country=US&amp\;language=en&quot\; &quot\;=&quot\;&quot\; target=&quot\;_blank&quot\; style=&quot\;box-sizing: border-box\; margin: 0px\; padding: 6px 20px\; border: 2px solid\; outline: 0px\; background: transparent\; vertical-align: baseline\; text-size-adjust: 100%\; text-decoration-line: none\; display: inline-block\; float: none\; top: 2px\; border-radius: 3px\; line-height: 1.7em\; -webkit-font-smoothing: antialiased\; transition: all 0.2s ease 0s\; position: relative\; cursor: pointer\; color: rgb(129\, 32\, 38) !important\;&quot\;&gt\;Get Tickets &raquo\;</div>\n</div>\n
LOCATION:The Sequoia Room North Coast Brewing Co. Taproom\, Restaurant & Bar 444 N. Main St. Fort Bragg\, CA 95437
UID:e.2883.12841
SEQUENCE:3
DTSTAMP:20260421T201441Z
URL:http://mendocinocoast.smartcms.site/events/details/valentine-s-show-sharon-garner-and-the-dorian-may-trio-12841
END:VEVENT

END:VCALENDAR
