BEGIN:VCALENDAR
VERSION:2.0
PRODID:-//ChamberMaster//Event Calendar 2.0//EN
METHOD:PUBLISH
X-PUBLISHED-TTL:P3D
REFRESH-INTERVAL:P3D
CALSCALE:GREGORIAN
BEGIN:VEVENT
DTSTART:20190310T200000Z
DTEND:20190311T000000Z
X-MICROSOFT-CDO-ALLDAYEVENT:FALSE
SUMMARY:Urchin Removal Event at Van Damme
DESCRIPTION:Anyone wishing to remove purple urchin will need a valid California fishing license. Volunteers are needed on shore and on kayaks as well. Van Damme state park and campground is directly across the street. They do allow RV's to camp in the parking lot overnight for $20. There are several hotels in the area as well. Dive briefing will be at the south end of the parking lot at 8am Saturday. For more information\, visit the Watermen's Alliance Event Facebook Page.
X-ALT-DESC;FMTTYPE=text/html:Anyone wishing to remove purple urchin will need a valid California fishing license. Volunteers are needed on shore and on kayaks as well. Van Damme state park and campground is directly across the street. They do allow RV&rsquo\;s to camp in the parking lot overnight for $20. There are several hotels in the area as well. Dive briefing will be at the south end of the parking lot at 8am Saturday. For more information\, visit the Watermen&rsquo\;s Alliance Event Facebook Page.
LOCATION:Van Damme State Park\, Little River CA
UID:e.2883.11305
SEQUENCE:3
DTSTAMP:20260422T144122Z
URL:http://mendocinocoast.smartcms.site/events/details/urchin-removal-event-at-van-damme-03-10-2019-11305
END:VEVENT

END:VCALENDAR
