BEGIN:VCALENDAR
VERSION:2.0
PRODID:-//ChamberMaster//Event Calendar 2.0//EN
METHOD:PUBLISH
X-PUBLISHED-TTL:P3D
REFRESH-INTERVAL:P3D
CALSCALE:GREGORIAN
BEGIN:VEVENT
DTSTART:20181006T173000Z
DTEND:20181006T190000Z
X-MICROSOFT-CDO-ALLDAYEVENT:FALSE
SUMMARY:Under the Sea: Read Aloud 15 Mins. Event
DESCRIPTION:Join us for some fishy stories and a mermaid craft at our Read Aloud 15 Minutes Under the Sea event! Guaranteed to be Big Read(ing) fun! Sponsored by Fort Bragg Rotary Club\, Read Aloud 15 Minutes and Friends of the Fort Bragg.
X-ALT-DESC;FMTTYPE=text/html:Join us for some fishy stories and a mermaid craft at our Read Aloud 15 Minutes Under the Sea event! Guaranteed to be Big Read(ing) fun! Sponsored by Fort Bragg Rotary Club\, Read Aloud 15 Minutes and Friends of the Fort Bragg.
LOCATION:Fort Bragg Library 499 E Laurel St Fort Bragg\, CA
UID:e.2883.10282
SEQUENCE:3
DTSTAMP:20260422T225353Z
URL:http://mendocinocoast.smartcms.site/events/details/under-the-sea-read-aloud-15-mins-event-10282
END:VEVENT

END:VCALENDAR
