BEGIN:VCALENDAR
VERSION:2.0
PRODID:-//ChamberMaster//Event Calendar 2.0//EN
METHOD:PUBLISH
X-PUBLISHED-TTL:P3D
REFRESH-INTERVAL:P3D
CALSCALE:GREGORIAN
BEGIN:VEVENT
DTSTART:20161006T143000Z
DTEND:20161006T190000Z
X-MICROSOFT-CDO-ALLDAYEVENT:FALSE
SUMMARY:Twelfth Annual Gualala River Run 5K & 10K Runs\, and 5K Fun Walk
DESCRIPTION:A family fun event sponsored by Action Network from 7:30 a.m. to noon\, Saturday\, October 15. Opportunities for everyone to enjoy 5K and 10K runs and a 5K â€œFun Walkâ€ on routes traversing Redwood forest near theÂ  Gualala river. Register from 7:30 to 8:30 a.m. on event day if you haven't pre-registered. Races begin at 9 a.m.\, with start/finish lines at the Gualala Arts Center parking lot entrance.\n For more information or to register\, call Action Network (707-884-5413) or download a registration form at www.ActionNetwork.info. Also pre-register at: TheSchedule.com\; RunSignUp.com\; or Active.com.\n Entry fees: Adults runs $35\; adult walk $30\; under 18 run/walk $10\; teams of five + people get 20 % discount\; kids in strollers free. Brunch: $10 adults\; $5 kids under 10.Â \n Coastal Creations Brunch from 10:30 a.m. to noon â€“ featuring breakfast burrito bar â€“ along with the GRReat Raffle drawing with prizes in dining\, shopping\, lodging and adventures. Raffle winners need not be present to win. Ongoing silent auction for an original oil painting of the Gualala River concludes at noon\, with highest bidder announced. Souvenir T-shirts free for entrants and volunteers\; $25 for visitors.Â \n This is a benefit for Action Network Family Resource Centers\, which provides a range of bilingual services to children\, families and individuals. Action Network sponsors the event along with many local businesses and agencies.
X-ALT-DESC;FMTTYPE=text/html:<p><span>A family fun event sponsored by Action Network from <strong>7:30 a.m. to noon\, Saturday\, October 15</strong>. Opportunities for everyone to enjoy 5K and 10K runs and a 5K â€œFun Walkâ€ on routes traversing Redwood forest near theÂ  Gualala river. </span></p><p><span>Register from 7:30 to 8:30 a.m. on event day if you haven't pre-registered. Races begin at 9 a.m.\, with start/finish lines at the Gualala Arts Center parking lot entrance.</span><span><br /> For more information or to register\, call <strong>Action Network (707-884-5413)</strong> or download a registration form at <strong>www.ActionNetwork.info</strong>. Also pre-register at: <strong>TheSchedule.com</strong>\; <strong>RunSignUp.com</strong>\; or <strong>Active.com</strong>.<br /> Entry fees: Adults runs $35\; adult walk $30\; under 18 run/walk $10\; teams of five + people get 20 % discount\; kids in strollers free. Brunch: $10 adults\; $5 kids under 10.Â <br /> Coastal Creations Brunch from 10:30 a.m. to noon â€“ featuring breakfast burrito bar â€“ along with the GRReat Raffle drawing with prizes in dining\, shopping\, lodging and adventures. Raffle winners need not be present to win. Ongoing silent auction for an original oil painting of the Gualala River concludes at noon\, with highest bidder announced. Souvenir T-shirts free for entrants and volunteers\; $25 for visitors.Â <br /> This is a benefit for Action Network Family Resource Centers\, which provides a range of bilingual services to children\, families and individuals. Action Network sponsors the event along with many local businesses and agencies.</span></p><p><span style="font-family: Calibri\; font-size: small\;"> </span></p><p><strong> </strong><em> </em></p>
LOCATION:Gualala Arts Center
UID:e.2883.1030
SEQUENCE:3
DTSTAMP:20260424T160446Z
URL:http://mendocinocoast.smartcms.site/events/details/twelfth-annual-gualala-river-run-5k-10k-runs-and-5k-fun-walk-10-06-2016-1030
END:VEVENT

END:VCALENDAR
