BEGIN:VCALENDAR
VERSION:2.0
PRODID:-//ChamberMaster//Event Calendar 2.0//EN
METHOD:PUBLISH
X-PUBLISHED-TTL:P3D
REFRESH-INTERVAL:P3D
CALSCALE:GREGORIAN
BEGIN:VEVENT
DTSTART:20171001T020000Z
DTEND:20171001T040000Z
X-MICROSOFT-CDO-ALLDAYEVENT:FALSE
SUMMARY:Travis Brass in Recital
DESCRIPTION:Come listen to a free concert of classical music by composers like J.S. Bach\, Malcom Arnold\, and American composers such as DiLorenzo\, Needham plus other patriotic favorites. The Travis Brass is part of the U.S. Air Force Band of the Golden West from Travis Air Force Base\, California. Comprised of two trumpets\, French horn\, trombone\, and a tuba\, the Travis Brass performs for a wide variety of musical events such as military ceremonies\, patriotic shows\, veteran appreciation events\, and formal concerts. Additionally\, the Travis Brass has a variety of educational programs that cover a broad range- young children's concerts\, combined concerts and masterclasses for high school students\, and intensive coaching sessions for collegiate undergraduate and graduate students. The small size and logistical footprint combined with versatile\, exciting\, and engaging programming make the Travis Brass a great choice for any event or audience. All concerts are free and open to the public.
X-ALT-DESC;FMTTYPE=text/html:Come listen to a free concert of classical music by composers like J.S. Bach\, Malcom Arnold\, and American composers such as DiLorenzo\, Needham plus other patriotic favorites. The Travis Brass is part of the U.S. Air Force Band of the Golden West from Travis Air Force Base\, California. Comprised of two trumpets\, French horn\, trombone\, and a tuba\, the Travis Brass performs for a wide variety of musical events such as military ceremonies\, patriotic shows\, veteran appreciation events\, and formal concerts. Additionally\, the Travis Brass has a variety of educational programs that cover a broad range- young children&rsquo\;s concerts\, combined concerts and masterclasses for high school students\, and intensive coaching sessions for collegiate undergraduate and graduate students. The small size and logistical footprint combined with versatile\, exciting\, and engaging programming make the Travis Brass a great choice for any event or audience. All concerts are free and open to the public.
LOCATION:Mendocino Presbyterian Church
UID:e.2883.4435
SEQUENCE:3
DTSTAMP:20260423T215432Z
URL:http://mendocinocoast.smartcms.site/events/details/travis-brass-in-recital-4435
END:VEVENT

END:VCALENDAR
