BEGIN:VCALENDAR
VERSION:2.0
PRODID:-//ChamberMaster//Event Calendar 2.0//EN
METHOD:PUBLISH
X-PUBLISHED-TTL:P3D
REFRESH-INTERVAL:P3D
CALSCALE:GREGORIAN
BEGIN:VEVENT
DTSTART:20190608T010000Z
DTEND:20190608T020000Z
X-MICROSOFT-CDO-ALLDAYEVENT:FALSE
SUMMARY:'To the Lighthouse' Performance at Point Cabrillo
DESCRIPTION:Join Friends of the Fort Bragg Library and Point Cabrillo Lightkeepers Association for a free evening event on the first Friday in June. Local performing artist Linda Pack will read a selection from the masterpiece 'To the Lighthouse' by Virginia Woolf\, inside the Point Cabrillo Lighthouse. Friday\, June 7th From 6p.m. to 7p.m. There will be light snacks and non-alcoholic beverages provided. The gift shop will be open until 8pm for your shopping pleasure. Parking is available along Point Cabrillo Drive at the top of our hill. Enjoy the stroll along our half mile paved road down to the Lighthouse\, and take some extra time to peek into the Assistant Lightkeepers House Museum before joining us at 6pm. Parking is available at the bottom of the driveway for vehicles with a Handicapped Parking Pass only. This is a free event\, but donations are welcome to both hosts\, PCLK and Friends of the Fort Bragg Library.
X-ALT-DESC;FMTTYPE=text/html:Join Friends of the Fort Bragg Library and Point Cabrillo Lightkeepers Association for a free evening event on the first Friday in June. Local performing artist Linda Pack will read a selection from the masterpiece &#39\;To the Lighthouse&#39\; by Virginia Woolf\, inside the Point Cabrillo Lighthouse. Friday\, June 7th From 6p.m. to 7p.m. There will be light snacks and non-alcoholic beverages provided. The gift shop will be open until 8pm for your shopping pleasure. Parking is available along Point Cabrillo Drive at the top of our hill. Enjoy the stroll along our half mile paved road down to the Lighthouse\, and take some extra time to peek into the Assistant Lightkeepers House Museum before joining us at 6pm. Parking is available at the bottom of the driveway for vehicles with a Handicapped Parking Pass only. This is a free event\, but donations are welcome to both hosts\, PCLK and Friends of the Fort Bragg Library.
LOCATION:Point Cabrillo Lighthouse 45300 Litehouse Road Mendocino\, CA 95460
UID:e.2883.11682
SEQUENCE:3
DTSTAMP:20260422T094036Z
URL:http://mendocinocoast.smartcms.site/events/details/to-the-lighthouse-performance-at-point-cabrillo-11682
END:VEVENT

END:VCALENDAR
