BEGIN:VCALENDAR
VERSION:2.0
PRODID:-//ChamberMaster//Event Calendar 2.0//EN
METHOD:PUBLISH
X-PUBLISHED-TTL:P3D
REFRESH-INTERVAL:P3D
CALSCALE:GREGORIAN
BEGIN:VEVENT
DTSTART:20190919T180000Z
DTEND:20190920T000000Z
X-MICROSOFT-CDO-ALLDAYEVENT:FALSE
SUMMARY:"Time Trapped" - Paintings by Virginia Sharkey
DESCRIPTION:In September Virginia Sharkey is showing seven large acrylic paintings reflecting her continuing exploration on the subject of time as codified in daily parlance: dawn\, noon\, and evening. The artist begins with a feeling tone manifested by color\, augmented by the ingredients of space\, gravity and energy which when combined produce their own kind of resonance  harmonious or not   but with a result that is evocative and mysterious. \n\nThe show opens September 5thand continues through the 30th. There is a First Friday Reception Aug 2\, 5-8pm\n\n \n\nPartners Gallery is located at 335 N. Franklin Street in downtown Fort Bragg.\n\nHOURS: Wednesday through Monday\, 11 am to 5 pm and Sundays\, 11 am to 4 pm.\, or by appointment. 707 964-6448 or 707 962-0655\;  \n\npartners@mcn.org\; www.partnersgallery.com\; 707 962-0233
X-ALT-DESC;FMTTYPE=text/html:<span style="font-family:helvetica">In September Virginia Sharkey is showing seven large acrylic paintings reflecting her continuing exploration on the subject of time as codified in daily parlance: dawn\, noon\, and evening. The artist begins with a feeling tone manifested by color\, augmented by the ingredients of space\, gravity and energy which when combined produce their own kind of resonance&ndash\;&ndash\;harmonious or not&ndash\;&ndash\; but with a result that is evocative and mysterious.&nbsp\;</span><br />\n<span style="color:#222222"><span style="font-family:helvetica">The show opens September 5<sup>th</sup>and continues through the 30<sup>th</sup>. There is a First Friday Reception Aug 2\, 5-8pm</span></span><br />\n&nbsp\;<br />\n<span style="color:#222222"><span style="font-family:helvetica">Partners Gallery is located at 335 N. Franklin Street in downtown Fort Bragg.</span></span><br />\n<span style="color:#222222"><span style="font-family:helvetica">HOURS: Wednesday through Monday\, 11 am to 5 pm and Sundays\, 11 am to 4 pm.\, or by appointment.&nbsp\;</span></span><u><span style="color:blue"><span style="color:#1155cc"><span style="font-family:helvetica"><a href="tel:(707)%20964-6448" style="color:purple\;" target="_blank"><span style="color:#1155cc">707 964-6448</span></a></span></span></span></u><span style="color:#222222"><span style="font-family:helvetica">&nbsp\;or&nbsp\;</span></span><u><span style="color:blue"><span style="color:#1155cc"><span style="font-family:helvetica"><a href="tel:(707)%20962-0655" style="color:purple\;" target="_blank"><span style="color:#1155cc">707 962-0655</span></a></span></span></span></u><span style="color:#222222"><span style="font-family:helvetica">\;&nbsp\;&nbsp\;</span></span><br />\n<u><span style="color:blue"><span style="color:#1155cc"><span style="font-family:helvetica"><a href="mailto:partners@mcn.org" style="color:purple\;" target="_blank"><span style="color:#1155cc">partners@mcn.org</span></a></span></span></span></u><span style="color:#222222"><span style="font-family:helvetica">\;&nbsp\;</span></span><u><span style="color:blue"><span style="color:#1155cc"><span style="font-family:helvetica"><a href="http://www.partnersgallery.com/" style="color:purple\;" target="_blank"><span style="color:#1155cc">www.partnersgallery.com</span></a></span></span></span></u><span style="color:#222222"><span style="font-family:helvetica">\;&nbsp\;</span></span><u><span style="color:blue"><span style="color:#1155cc"><span style="font-family:helvetica"><a href="tel:(707)%20962-0233" style="color:purple\;" target="_blank"><span style="color:#1155cc">707 962-0233</span></a></span></span></span></u><br />\n&nbsp\;
LOCATION:Partners Gallery 335 N. Franklin St Fort Bragg\, CA 95437
UID:e.2883.11940
SEQUENCE:3
DTSTAMP:20260422T043513Z
URL:http://mendocinocoast.smartcms.site/events/details/time-trapped-paintings-by-virginia-sharkey-09-19-2019-11940
END:VEVENT

END:VCALENDAR
