BEGIN:VCALENDAR
VERSION:2.0
PRODID:-//ChamberMaster//Event Calendar 2.0//EN
METHOD:PUBLISH
X-PUBLISHED-TTL:P3D
REFRESH-INTERVAL:P3D
CALSCALE:GREGORIAN
BEGIN:VEVENT
DTSTART;VALUE=DATE:20190801
DTEND;VALUE=DATE:20190903
TRANSP:TRANSPARENT
X-MICROSOFT-CDO-ALLDAYEVENT:TRUE
SUMMARY:Three Featured Artists in August at the Highlight Gallery
DESCRIPTION:For the month of August\, the Highlight Gallery is featuring three artists Sally Cataldo\, Francine Hurd and Laurie DeVault. Sally's loose and juicy watercolors capture a lively serenity most of us long for. She is continually stretching herself\, experimenting and growing\, in still life\, cityscapes and abstracts. Her lifelong practice of painting began with artistic parents\, her musician Dad and her Mom\, pastel artist Francine Hurd. Francine's pastel landscapes capture a deeply serene sense of place\, with the occasional delightful sense of whimsy. So it is entirely appropriate that we celebrate the two in our annual showing of their work. Laurie DeVault's creative process relies on exploration and intuition. She finds the spontaneity of abstract\, non-representational art to be very liberating\, much like improvisational jazz or dance. Her paintings are mostly acrylic along with the occasional pastels and charcoal pencils.
X-ALT-DESC;FMTTYPE=text/html:For the month of August\, the Highlight Gallery is featuring three artists Sally Cataldo\, Francine Hurd and Laurie DeVault. Sally&#39\;s loose and juicy watercolors capture a lively serenity most of us long for. She is continually stretching herself\, experimenting and growing\, in still life\, cityscapes and abstracts. Her lifelong practice of painting began with artistic parents\, her musician Dad and her Mom\, pastel artist Francine Hurd. Francine&#39\;s pastel landscapes capture a deeply serene sense of place\, with the occasional delightful sense of whimsy. So it is entirely appropriate that we celebrate the two in our annual showing of their work. Laurie DeVault&#39\;s creative process relies on exploration and intuition. She finds the spontaneity of abstract\, non-representational art to be very liberating\, much like improvisational jazz or dance. Her paintings are mostly acrylic along with the occasional pastels and charcoal pencils.
LOCATION:The Highlight Gallery\, 45094 Main Street\, Mendocino\, CA
UID:e.2883.11908
SEQUENCE:3
DTSTAMP:20260422T043239Z
URL:http://mendocinocoast.smartcms.site/events/details/three-featured-artists-in-august-at-the-highlight-gallery-11908
END:VEVENT

END:VCALENDAR
