BEGIN:VCALENDAR
VERSION:2.0
PRODID:-//ChamberMaster//Event Calendar 2.0//EN
METHOD:PUBLISH
X-PUBLISHED-TTL:P3D
REFRESH-INTERVAL:P3D
CALSCALE:GREGORIAN
BEGIN:VEVENT
DTSTART:20191223T033000Z
DTEND:20191223T050000Z
X-MICROSOFT-CDO-ALLDAYEVENT:FALSE
SUMMARY:The Snow Queen
DESCRIPTION:Gloriana Musical Theatre presents The Snow Queen\, a delightful fairytale by Hans Christian Andersen. Running December 13   22 at Eagles Hall in Fort Bragg.\n\nAfter the Snow Queen\, blows a sliver of a magic mirror into Kai's eye (which works its way into his heart) she takes him to her palace where he will only be set free if he can solve the puzzle of Eternity. Kai's sister Gerda sets off on an epic and perilous journey to find him and bring him home\, encountering magical and strange creatures along the way.\n\n\n\nBook and Lyrics by Winifred Palmer. From the story by Hans Christian Andersen. Music arranged and adapted from the works of Edvard Grieg by King Palmer.\n\n\n\nPerforming at Eagles Hall from December 13   22 with performances at 7:30 p.m on Fridays and Saturdays and Sunday matinees beginning at 3 p.m.
X-ALT-DESC;FMTTYPE=text/html:<p>Gloriana Musical Theatre presents <em>The Snow Queen</em>\, a delightful fairytale by Hans Christian Andersen. Running December 13 &ndash\; 22 at Eagles Hall in Fort Bragg.</p>\n\n<p>After the Snow Queen\, blows a sliver of a magic mirror into Kai&#39\;s eye (which works its way into his heart) she takes him to her palace where he will only be set free if he can solve the puzzle of Eternity. Kai&#39\;s sister Gerda sets off on an epic and perilous journey to find him and bring him home\, encountering magical and strange creatures along the way.<br />\n<br />\nBook and Lyrics by Winifred Palmer. From the story by Hans Christian Andersen. Music arranged and adapted from the works of Edvard Grieg by King Palmer.<br />\n<br />\nPerforming at Eagles Hall from December 13 &ndash\; 22 with performances at 7:30 p.m on Fridays and Saturdays and Sunday matinees beginning at 3 p.m.&nbsp\;</p>\n
LOCATION:Eagles Hall\, 210 N Corry\, Fort Bragg
UID:e.2883.12583
SEQUENCE:3
DTSTAMP:20260421T233900Z
URL:http://mendocinocoast.smartcms.site/events/details/the-snow-queen-12-22-2019-12583
END:VEVENT

END:VCALENDAR
