BEGIN:VCALENDAR
VERSION:2.0
PRODID:-//ChamberMaster//Event Calendar 2.0//EN
METHOD:PUBLISH
X-PUBLISHED-TTL:P3D
REFRESH-INTERVAL:P3D
CALSCALE:GREGORIAN
BEGIN:VEVENT
DTSTART:20180518T030000Z
DTEND:20180518T043000Z
X-MICROSOFT-CDO-ALLDAYEVENT:FALSE
SUMMARY:The Secret Life of Spantsa
DESCRIPTION:The Secret Life of Spantsa is an original one-woman play by Zuzka Sabata based on the life of Olive Oatman\, the first tattooed white woman in America. She was a European-American migrant who\, in 1852\, at the age of 15\, found herself adopted by the Mojave Tribe. This highly physical performance delves into the seamy side of American expansionary history by moving beyond the standard narrative of so-called captivity stories into the inner world of a woman caught between cultures and permanently marked by murder. \n\nTickets are $20\, or $10 for youth 22 and under.
X-ALT-DESC;FMTTYPE=text/html:<font face="georgia\, times new roman\, bitstream charter\, times\, serif"><span style="background-color:rgb(255\, 255\, 255)\; font-size:16px"><em><strong>The Secret Life of Spantsa</strong></em>&nbsp\;</span></font><span style="font-family:times new roman"><span style="background-color:rgb(250\, 250\, 250)\; color:rgb(125\, 125\, 125)\; font-size:18px">is an original one-woman play by Zuzka Sabata based on the life of Olive Oatman\, the first tattooed white woman in America. She was a European-American migrant who\, in 1852\, at the age of 15\, found herself adopted by the Mojave Tribe. This highly physical performance delves into the seamy side of American expansionary history by moving beyond the standard narrative of so-called captivity stories into the inner world of a woman caught between cultures and permanently marked by murder.&nbsp\;<br />\nTickets are $20\, or $10 for youth 22 and under.</span></span>
LOCATION:Mendocino Theatre Company
UID:e.2883.8076
SEQUENCE:3
DTSTAMP:20260423T073806Z
URL:http://mendocinocoast.smartcms.site/events/details/the-secret-life-of-spantsa-8076
END:VEVENT

END:VCALENDAR
