BEGIN:VCALENDAR
VERSION:2.0
PRODID:-//ChamberMaster//Event Calendar 2.0//EN
METHOD:PUBLISH
X-PUBLISHED-TTL:P3D
REFRESH-INTERVAL:P3D
CALSCALE:GREGORIAN
BEGIN:VEVENT
DTSTART:20160915T170100Z
DTEND:20160916T000000Z
X-MICROSOFT-CDO-ALLDAYEVENT:FALSE
SUMMARY:"The Metaphors of Alchemy" Mixed Media Works by Karen Fenley
DESCRIPTION:PARTNERS GALLERY"THE METAPHORS OF ALCHEMYâ€MIXED MEDIA WORKS BY KAREN FENLEYOCTOBER 6 - 31FIRST FRIDAY RECEPTION OCTOBER 7\, 5-8PMWine poured by Handley CellarsÂ Partners is showing a new body of work by Karen Fenley. Her new mixed media wall reliefs feature a strong narrative reflecting the many themes of Alchemy.Â  Her processes\, developed over 30 years\, incorporate materials such as metal leaf\, joint compound\, paint and encaustic to create 15 individual works addressing the transformation of elementary materials into meaning.Â Partners Gallery is located at 335N. Franklin Street in Fort Bragg and is open Wednesday through Monday 10 am to 5 pm and Sundays 10 am to 4 pm.707 962-0233Â  http://www.partnersgallery.com
X-ALT-DESC;FMTTYPE=text/html:<p>PARTNERS GALLERY</p><p>"THE METAPHORS OF ALCHEMYâ€</p><p>MIXED MEDIA WORKS BY KAREN FENLEY</p><p>OCTOBER 6 - 31</p><p>FIRST FRIDAY RECEPTION OCTOBER 7\, 5-8PM</p><p>Wine poured by Handley Cellars</p><p>Â </p><p>Partners is showing a new body of work by Karen Fenley. Her new mixed media wall reliefs feature a strong narrative reflecting the many themes of Alchemy.Â  Her processes\, developed over 30 years\, incorporate materials such as metal leaf\, joint compound\, paint and encaustic to create 15 individual works addressing the transformation of elementary materials into meaning.</p><p>Â </p><p>Partners Gallery is located at 335N. Franklin Street in Fort Bragg and is open Wednesday through Monday 10 am to 5 pm and Sundays 10 am to 4 pm.</p><p>707 962-0233Â  <a href="http://www.partnersgallery.com">http://www.partnersgallery.com</a>&gt\;</p>
LOCATION:Partners Gallery Fort Bragg
UID:e.2883.1018
SEQUENCE:3
DTSTAMP:20260424T175915Z
URL:http://mendocinocoast.smartcms.site/events/details/the-metaphors-of-alchemy-mixed-media-works-by-karen-fenley-09-15-2016-1018
END:VEVENT

END:VCALENDAR
