BEGIN:VCALENDAR
VERSION:2.0
PRODID:-//ChamberMaster//Event Calendar 2.0//EN
METHOD:PUBLISH
X-PUBLISHED-TTL:P3D
REFRESH-INTERVAL:P3D
CALSCALE:GREGORIAN
BEGIN:VEVENT
DTSTART:20180901T180000Z
DTEND:20181031T230000Z
X-MICROSOFT-CDO-ALLDAYEVENT:FALSE
SUMMARY:The Mendocino Coast Ecological Staircase
DESCRIPTION:Here on the Mendocino Coast\, nature created a unique Pygmy Forest of stunted trees and bushes\, singular in all the world. These unusual areas are found on five wave cut terraces formed over the last 500\,000 years\, the Ecological Staircase. The ancient soils found at Jug Handle State Natural Reserve are 1000 times more acidic than in the neighboring Redwood Forest. In 1969\, our Pygmy Forest at Jug Handle was named a National Natural Landmark by the U.S. National Park Service. Mario Abreu\, a retired Mendocino Coast Botanical Gardens MCBG staff member for 21 years has joined California State Parks and the Mendocino Area Parks Association as part of the volunteer docent team at the Ford House Museum to coordinate an exhibit of Mendocino Coast Ecological Staircase and Pygmy Forest for public viewing. The Mendocino Coast Ecological Staircase exhibit will run throughout September and October. This new and exciting display along with several other permanent displays are available for viewing 11 am   4 pm daily at the Ford House Visitor Center and Museum located at 45035 Main Street\, Mendocino CA.
X-ALT-DESC;FMTTYPE=text/html:Here on the Mendocino Coast\, nature created a unique Pygmy Forest of stunted trees and bushes\, singular in all the world. These unusual areas are found on five wave cut terraces formed over the last 500\,000 years\, the Ecological Staircase. The ancient soils found at Jug Handle State Natural Reserve are 1000 times more acidic than in the neighboring Redwood Forest. In 1969\, our Pygmy Forest at Jug Handle was named a National Natural Landmark by the U.S. National Park Service. Mario Abreu\, a retired Mendocino Coast Botanical Gardens MCBG staff member for 21 years has joined California State Parks and the Mendocino Area Parks Association as part of the volunteer docent team at the Ford House Museum to coordinate an exhibit of Mendocino Coast Ecological Staircase and Pygmy Forest for public viewing. The Mendocino Coast Ecological Staircase exhibit will run throughout September and October. This new and exciting display along with several other permanent displays are available for viewing 11 am &ndash\; 4 pm daily at the Ford House Visitor Center and Museum located at 45035 Main Street\, Mendocino CA.
LOCATION:45035 Main Street Mendocino\, CA
UID:e.2883.9369
SEQUENCE:3
DTSTAMP:20260422T225356Z
URL:http://mendocinocoast.smartcms.site/events/details/the-mendocino-coast-ecological-staircase-9369
END:VEVENT

END:VCALENDAR
