BEGIN:VCALENDAR
VERSION:2.0
PRODID:-//ChamberMaster//Event Calendar 2.0//EN
METHOD:PUBLISH
X-PUBLISHED-TTL:P3D
REFRESH-INTERVAL:P3D
CALSCALE:GREGORIAN
BEGIN:VEVENT
DTSTART;VALUE=DATE:20170428
DTEND;VALUE=DATE:20170429
TRANSP:TRANSPARENT
X-MICROSOFT-CDO-ALLDAYEVENT:TRUE
SUMMARY:The May Show
DESCRIPTION:Art Explorers presents their 22nd Annual May Show with new artwork by 23 artists. Come celebrate on First Friday\, May 5th from 5p.m. to 7p.m. at 305 E. Redwood Ave\, Fort Bragg. Food\, wine and fun! The May Show runs from May 5th to May 31st.
X-ALT-DESC;FMTTYPE=text/html:<p>Art Explorers presents their 22nd Annual May Show with new artwork by 23 artists. Come celebrate on First Friday\, May 5th from 5p.m. to 7p.m. at 305 E. Redwood Ave\, Fort Bragg. Food\, wine and fun! The May Show runs from May 5th to May 31st.</p>
LOCATION:Art Explorers Fort Bragg
UID:e.2883.1199
SEQUENCE:3
DTSTAMP:20260424T061007Z
URL:http://mendocinocoast.smartcms.site/events/details/the-may-show-04-28-2017-1199
END:VEVENT

END:VCALENDAR
