BEGIN:VCALENDAR
VERSION:2.0
PRODID:-//ChamberMaster//Event Calendar 2.0//EN
METHOD:PUBLISH
X-PUBLISHED-TTL:P3D
REFRESH-INTERVAL:P3D
CALSCALE:GREGORIAN
BEGIN:VEVENT
DTSTART:20180711T023000Z
DTEND:20180711T043000Z
X-MICROSOFT-CDO-ALLDAYEVENT:FALSE
SUMMARY:THE KING - Benefit Film Screening
DESCRIPTION:Mendocino Area Parks Association\, in partnership with Mendocino Film Festival present a benefit screening of  the new film THE KING.\n\n\n\nForty years after the death of Elvis Presley\, two-time Sundance Grand Jury winner Eugene Jarecki's new film takes the King's 1963 Rolls-Royce on a musical road trip across America. From Memphis to New York\, Las Vegas\, and beyond\, the journey traces the rise and fall of Elvis as a metaphor for the country he left behind. In this groundbreaking film\, Jarecki paints a visionary portrait of the state of the American dream and a penetrating look at how the hell we got here.\n\nA diverse cast of Americans\, both famous and not\, join the journey\, including Alec Baldwin\, Rosanne Cash\, Chuck D\, Emmylou Harris\, Ethan Hawke\, Van Jones\, Mike Myers\, and Dan Rather\, among many others.\n\nTickets are $12 available online theking.eventbrite.com and cash at the door on day of event.\n\n* Film is R Rated - Under 17 requires accompanying parent or guardian.\n\n\n\nYou can view the trailer here.
X-ALT-DESC;FMTTYPE=text/html:<div style="text-align:start"><span style="font-size:18px">Mendocino Area Parks Association\, in partnership with Mendocino Film Festival present a benefit screening of &nbsp\;the new film THE KING.</span><br />\n<br />\nForty years after the death of Elvis Presley\, two-time Sundance Grand Jury winner Eugene Jarecki&#39\;s new film takes the King&#39\;s 1963 Rolls-Royce on a musical road trip across America. From Memphis to New York\, Las Vegas\, and beyond\, the journey traces the rise and fall of Elvis as a metaphor for the country he left behind. In this groundbreaking film\, Jarecki paints a visionary portrait of the state of the American dream and a penetrating look at how the hell we got here.</div>\n\n<p style="text-align:start">A diverse cast of Americans\, both famous and not\, join the journey\, including Alec Baldwin\, Rosanne Cash\, Chuck D\, Emmylou Harris\, Ethan Hawke\, Van Jones\, Mike Myers\, and Dan Rather\, among many others.</p>\n\n<p style="text-align:start"><em><strong>Tickets are $12 available online&nbsp\;<a href="http://theking.eventbrite.com" style="color: rgb(0\, 106\, 227)\;">theking.eventbrite.com</a>&nbsp\;and cash at the door on day of event.</strong></em><br />\n<em><strong><u><span style="background-color:#FFFF00">* Film is R Rated</span></u>&nbsp\;- Under 17 requires accompanying parent or guardian.</strong></em></p>\n\n<div style="text-align:start">\n<div style="text-align:start">\n<div>You can <a href="https://youtu.be/csXtdjsqYLM" style="color: rgb(0\, 106\, 227)\;">view the trailer here</a>.</div>\n</div>\n<br />\n&nbsp\;</div>\n
LOCATION:The Mendocino Music Festival Tent - 45035 Main Street\, Mendocino\, CA 95460
UID:e.2883.8989
SEQUENCE:3
DTSTAMP:20260423T040825Z
URL:http://mendocinocoast.smartcms.site/events/details/the-king-benefit-film-screening-8989
END:VEVENT

END:VCALENDAR
