BEGIN:VCALENDAR
VERSION:2.0
PRODID:-//ChamberMaster//Event Calendar 2.0//EN
METHOD:PUBLISH
X-PUBLISHED-TTL:P3D
REFRESH-INTERVAL:P3D
CALSCALE:GREGORIAN
BEGIN:VEVENT
DTSTART:20181006T220000Z
DTEND:20181006T230000Z
X-MICROSOFT-CDO-ALLDAYEVENT:FALSE
SUMMARY:The Faery Handbag\, a discussion with Jody Gehrman
DESCRIPTION:An NEA Big Read Event Author\, professor (Mendocino College)\, lover of semicolons\, Jody Gehrman\, will discuss the short story\, The Faery Handbag from the book Pretty Monsters by Kelly Link. Pick up your free copy of the book beginning October 2nd at any Mendocino County Library and join the fun!
X-ALT-DESC;FMTTYPE=text/html:An NEA Big Read Event Author\, professor (Mendocino College)\, lover of semicolons\, Jody Gehrman\, will discuss the short story\, The Faery Handbag from the book Pretty Monsters by Kelly Link. Pick up your free copy of the book beginning October 2nd at any Mendocino County Library and join the fun!
LOCATION:Fort Bragg Library 499 E Laurel St Fort Bragg\, CA
UID:e.2883.10283
SEQUENCE:3
DTSTAMP:20260422T225407Z
URL:http://mendocinocoast.smartcms.site/events/details/the-faery-handbag-a-discussion-with-jody-gehrman-10283
END:VEVENT

END:VCALENDAR
