BEGIN:VCALENDAR
VERSION:2.0
PRODID:-//ChamberMaster//Event Calendar 2.0//EN
METHOD:PUBLISH
X-PUBLISHED-TTL:P3D
REFRESH-INTERVAL:P3D
CALSCALE:GREGORIAN
BEGIN:VEVENT
DTSTART:20181026T230000Z
DTEND:20181027T000000Z
X-MICROSOFT-CDO-ALLDAYEVENT:FALSE
SUMMARY:Teen Poetry Burial Craft & Book Discussion
DESCRIPTION:An NEA Big Read event! Teens will discuss the Young Adult book\, Pretty Monsters by Kelly Link\, then do a casket-shaped craft based on the short story from the book\, The Wrong Grave. Casket crafts will be placed on display along with the Dia de Muertos display at the library beginning Oct. 31. Pretty Monsters by Kelly Link In these nine stories\, blending humor\, the supernatural\, and teen angst\, bizarre and wonderful things occur. Get your free copy of Pretty Monsters at any Mendocino County Library Branch beginning October 2nd and join us for the Big Read!
X-ALT-DESC;FMTTYPE=text/html:An NEA Big Read event! Teens will discuss the Young Adult book\, Pretty Monsters by Kelly Link\, then do a casket-shaped craft based on the short story from the book\, The Wrong Grave. Casket crafts will be placed on display along with the Dia de Muertos display at the library beginning Oct. 31. Pretty Monsters by Kelly Link In these nine stories\, blending humor\, the supernatural\, and teen angst\, bizarre and wonderful things occur. Get your free copy of Pretty Monsters at any Mendocino County Library Branch beginning October 2nd and join us for the Big Read!
LOCATION:Fort Bragg Library 499 E Laurel St Fort Bragg\, CA
UID:e.2883.10291
SEQUENCE:3
DTSTAMP:20260422T225502Z
URL:http://mendocinocoast.smartcms.site/events/details/teen-poetry-burial-craft-book-discussion-10291
END:VEVENT

END:VCALENDAR
