BEGIN:VCALENDAR
VERSION:2.0
PRODID:-//ChamberMaster//Event Calendar 2.0//EN
METHOD:PUBLISH
X-PUBLISHED-TTL:P3D
REFRESH-INTERVAL:P3D
CALSCALE:GREGORIAN
BEGIN:VEVENT
DTSTART:20180729T020000Z
DTEND:20180729T050000Z
X-MICROSOFT-CDO-ALLDAYEVENT:FALSE
SUMMARY:Teen Lock-In: Disco Mystery
DESCRIPTION:Teens (12 to 18) will play 1970s celebrity suspects who are also detectives\, looking for clues in a scavenger hunt and helping to solve a murder mystery. Pizza and other refreshments served. Seventies threads (clothes) are encouraged but not required. Pre-registration is required.
X-ALT-DESC;FMTTYPE=text/html:Teens (12 to 18) will play 1970s celebrity suspects who are also detectives\, looking for clues in a scavenger hunt and helping to solve a murder mystery. Pizza and other refreshments served. Seventies threads (clothes) are encouraged but not required. Pre-registration is required.
LOCATION:Fort Bragg Library 499 E Laurel St Fort Bragg\, CA 95437
UID:e.2883.9079
SEQUENCE:3
DTSTAMP:20260423T040831Z
URL:http://mendocinocoast.smartcms.site/events/details/teen-lock-in-disco-mystery-9079
END:VEVENT

END:VCALENDAR
