BEGIN:VCALENDAR
VERSION:2.0
PRODID:-//ChamberMaster//Event Calendar 2.0//EN
METHOD:PUBLISH
X-PUBLISHED-TTL:P3D
REFRESH-INTERVAL:P3D
CALSCALE:GREGORIAN
BEGIN:VEVENT
DTSTART:20181026T010000Z
DTEND:20181026T020000Z
X-MICROSOFT-CDO-ALLDAYEVENT:FALSE
SUMMARY:Tales of Transformation with Darryl 'Oasis' Hasten
DESCRIPTION:An NEA Big Read Presentation! Tales of Transformation Adult Storytelling. With fifty years of experience as storyteller\, actor\, dancer\, and human performance artist\, "Oasis" Darryl Hasten journeys the realm of story\, metaphor\, and parable (Real Estate Magazine). Tales of Transformations and Dreams will celebrate the tradition of "fantastic tales" as shown in the 2018 NEA Big Read selection Pretty Monsters by Kelly Link.
X-ALT-DESC;FMTTYPE=text/html:An NEA Big Read Presentation! Tales of Transformation Adult Storytelling. With fifty years of experience as storyteller\, actor\, dancer\, and human performance artist\, &ldquo\;Oasis&rdquo\; Darryl Hasten journeys the realm of story\, metaphor\, and parable (Real Estate Magazine). Tales of Transformations and Dreams will celebrate the tradition of &ldquo\;fantastic tales&rdquo\; as shown in the 2018 NEA Big Read selection Pretty Monsters by Kelly Link.
LOCATION:Fort Bragg Library 499 E Laurel St Fort Bragg\, CA
UID:e.2883.10289
SEQUENCE:3
DTSTAMP:20260422T225418Z
URL:http://mendocinocoast.smartcms.site/events/details/tales-of-transformation-with-darryl-oasis-hasten-10289
END:VEVENT

END:VCALENDAR
