BEGIN:VCALENDAR
VERSION:2.0
PRODID:-//ChamberMaster//Event Calendar 2.0//EN
METHOD:PUBLISH
X-PUBLISHED-TTL:P3D
REFRESH-INTERVAL:P3D
CALSCALE:GREGORIAN
BEGIN:VEVENT
DTSTART;VALUE=DATE:20180203
DTEND;VALUE=DATE:20180204
TRANSP:TRANSPARENT
X-MICROSOFT-CDO-ALLDAYEVENT:TRUE
SUMMARY:Symphony of the Redwoods Winter Concert
DESCRIPTION:Dvorak: Slavonic Dance No. 1 in C minor Brahms: Double Concerto\, featuring Jay Zhong\, violin\; Stephen Harrison\, cello Schumann: Symphony No. 2
X-ALT-DESC;FMTTYPE=text/html:Dvorak: Slavonic Dance No. 1 in C minor Brahms: Double Concerto\, featuring Jay Zhong\, violin\; Stephen Harrison\, cello Schumann: Symphony No. 2
LOCATION:Cotton Auditorium - 500 N. Harold St\, Fort Bragg\, CA 95437
UID:e.2883.5513
SEQUENCE:3
DTSTAMP:20260423T122203Z
URL:http://mendocinocoast.smartcms.site/events/details/symphony-of-the-redwoods-winter-concert-5513
END:VEVENT

END:VCALENDAR
